BEGIN:VCALENDAR
VERSION:2.0
PRODID:-//QCSportsNet - The Quad Cities Live Local Sports Leader - ECPv4.9.8//NONSGML v1.0//EN
CALSCALE:GREGORIAN
METHOD:PUBLISH
X-WR-CALNAME:QCSportsNet - The Quad Cities Live Local Sports Leader
X-ORIGINAL-URL:http://qcsportsnet.com
X-WR-CALDESC:Events for QCSportsNet - The Quad Cities Live Local Sports Leader
BEGIN:VTIMEZONE
TZID:America/Chicago
BEGIN:DAYLIGHT
TZOFFSETFROM:-0600
TZOFFSETTO:-0500
TZNAME:CDT
DTSTART:20190310T080000
END:DAYLIGHT
BEGIN:STANDARD
TZOFFSETFROM:-0500
TZOFFSETTO:-0600
TZNAME:CST
DTSTART:20191103T070000
END:STANDARD
END:VTIMEZONE
BEGIN:VEVENT
DTSTART;TZID="America/Chicago":20190218T184500
DTEND;TZID="America/Chicago":20190218T210000
DTSTAMP:20260424T215422
CREATED:20190218T020706Z
LAST-MODIFIED:20190218T020706Z
UID:1839-1550515500-1550523600@qcsportsnet.com
SUMMARY:High School Playoff Basketball - Monday\, February 18th
DESCRIPTION: \nClick here to listen to live Rock Island broadcasts\n\nMonday\, February 18th – Rock Island girls vs Normal Community West at Illinois Class 4A Normal Community Sectional\, 6:45 PM pregame/7:00 tipoff\n\n\nClick here to listen to live Pleasant Valley broadcasts\n\nMonday\, February 18th – Pleasant Valley boys vs Cedar Rapids Jefferson (Iowa 4A substate first round)\, 6:45 PM pregame/7:00 PM tipoff\n\n
URL:http://qcsportsnet.com/calendar/high-school-playoff-basketball-monday-february-18th/
CATEGORIES:Boys basketball,Girls Basketball,MAC,Pleasant Valley,State playoffs,United Township,Western Big 6
ATTACH;FMTTYPE=image/jpeg:http://qcsportsnet.com/wp-content/uploads/2018/01/QCSportsNet_02_300dpi.jpg
END:VEVENT
END:VCALENDAR