BEGIN:VCALENDAR
VERSION:2.0
PRODID:-//QCSportsNet - The Quad Cities Live Local Sports Leader - ECPv4.9.8//NONSGML v1.0//EN
CALSCALE:GREGORIAN
METHOD:PUBLISH
X-WR-CALNAME:QCSportsNet - The Quad Cities Live Local Sports Leader
X-ORIGINAL-URL:http://qcsportsnet.com
X-WR-CALDESC:Events for QCSportsNet - The Quad Cities Live Local Sports Leader
BEGIN:VTIMEZONE
TZID:America/Chicago
BEGIN:DAYLIGHT
TZOFFSETFROM:-0600
TZOFFSETTO:-0500
TZNAME:CDT
DTSTART:20180311T080000
END:DAYLIGHT
BEGIN:STANDARD
TZOFFSETFROM:-0500
TZOFFSETTO:-0600
TZNAME:CST
DTSTART:20181104T070000
END:STANDARD
END:VTIMEZONE
BEGIN:VEVENT
DTSTART;VALUE=DATE:20180222
DTEND;VALUE=DATE:20180223
DTSTAMP:20260425T112953
CREATED:20180219T034240Z
LAST-MODIFIED:20180220T121838Z
UID:1376-1519257600-1519343999@qcsportsnet.com
SUMMARY:Rock Island Girls vs Edwardsville Illinois 4A sectional final - February 22nd
DESCRIPTION:\nThursday\, February 22nd – Rock Island girls Illinois 4A sectional final at Champaign Centennial HS – pregame 6:40 PM/tipoff 7:00 PM\n\n \n
URL:http://qcsportsnet.com/calendar/if-necessary-rock-island-girls-illinois-4a-sectional-final/
LOCATION:Champaign Centennial HS\, 913 Crescent Dr\, Champaign\, 61821\, United States
CATEGORIES:Girls Basketball,Rock Island,State playoffs,Western Big 6
ATTACH;FMTTYPE=image/png:http://qcsportsnet.com/wp-content/uploads/2015/03/Rock-Island-Rocks-Logo.png
END:VEVENT
END:VCALENDAR