BEGIN:VCALENDAR
VERSION:2.0
PRODID:-//QCSportsNet - The Quad Cities Live Local Sports Leader - ECPv4.9.8//NONSGML v1.0//EN
CALSCALE:GREGORIAN
METHOD:PUBLISH
X-WR-CALNAME:QCSportsNet - The Quad Cities Live Local Sports Leader
X-ORIGINAL-URL:http://qcsportsnet.com
X-WR-CALDESC:Events for QCSportsNet - The Quad Cities Live Local Sports Leader
BEGIN:VTIMEZONE
TZID:America/Chicago
BEGIN:DAYLIGHT
TZOFFSETFROM:-0600
TZOFFSETTO:-0500
TZNAME:CDT
DTSTART:20140309T080000
END:DAYLIGHT
BEGIN:STANDARD
TZOFFSETFROM:-0500
TZOFFSETTO:-0600
TZNAME:CST
DTSTART:20141102T070000
END:STANDARD
END:VTIMEZONE
BEGIN:VEVENT
DTSTART;TZID="America/Chicago":20141101T003000
DTEND;TZID="America/Chicago":20141101T160000
DTSTAMP:20260425T010239
CREATED:20141028T013930Z
LAST-MODIFIED:20141028T014925Z
UID:302-1414801800-1414857600@qcsportsnet.com
SUMMARY:Illinois high school football playoffs - First round\, November 1\, 2014
DESCRIPTION: \nESPN Radio Quad Cities and QCSportsNet proudly present the first round of the Illinois high school football playoffs. We feature Rock Island Alleman and Orion as they take their first steps to Championship Weekend at the University of Illinois. Kickoff for both games is at 1 PM. \n\nRock Island Alleman at Elgin St. Edward (Play by play – Marco LaNave Analyst – Dan Makarewicz)- Pregame at 12:40 PM on ESPN 93.5 FM\, www.espn935.com\, or qcsn.co/espn935.\nOrion at Mercer County (Play by play – Ken Jacoby Analyst – Dallon Christensen) – Pregame around 12:30 PM on QCSportsNet2 (qcsn.co/qcsnet2)\n\nFollow ESPN 93.5’s Twitter feed and the hashtag #espnqc for updates on all Quad City sports happenings. \n
URL:http://qcsportsnet.com/calendar/illinois-high-school-football-playoffs-first-round-november-1-2014/
CATEGORIES:Football,State playoffs
END:VEVENT
END:VCALENDAR