BEGIN:VCALENDAR
VERSION:2.0
PRODID:-//QCSportsNet - The Quad Cities Live Local Sports Leader - ECPv4.9.8//NONSGML v1.0//EN
CALSCALE:GREGORIAN
METHOD:PUBLISH
X-WR-CALNAME:QCSportsNet - The Quad Cities Live Local Sports Leader
X-ORIGINAL-URL:http://qcsportsnet.com
X-WR-CALDESC:Events for QCSportsNet - The Quad Cities Live Local Sports Leader
BEGIN:VTIMEZONE
TZID:America/Chicago
BEGIN:DAYLIGHT
TZOFFSETFROM:-0600
TZOFFSETTO:-0500
TZNAME:CDT
DTSTART:20190310T080000
END:DAYLIGHT
BEGIN:STANDARD
TZOFFSETFROM:-0500
TZOFFSETTO:-0600
TZNAME:CST
DTSTART:20191103T070000
END:STANDARD
END:VTIMEZONE
BEGIN:VEVENT
DTSTART;TZID="America/Chicago":20190603T161500
DTEND;TZID="America/Chicago":20190603T190000
DTSTAMP:20260425T010241
CREATED:20190603T003610Z
LAST-MODIFIED:20190603T003610Z
UID:1908-1559578500-1559588400@qcsportsnet.com
SUMMARY:Moline vs Joliet West - Illinois State University Super-Sectional\, Monday June 3rd
DESCRIPTION: \nClick here for live Moline broadcasts\n\nMonday\, June 3rd – Moline softball vs Joliet West at Illinois State University super-sectional\, 4:15 PM pregame/4:30 PM first pitch\n\n
URL:http://qcsportsnet.com/calendar/moline-vs-joliet-west-illinois-state-university-super-sectional-monday-june-3rd/
CATEGORIES:Moline,Softball,State playoffs,Western Big 6
ATTACH;FMTTYPE=image/jpeg:http://qcsportsnet.com/wp-content/uploads/2015/12/QC_black_300dpi.jpg
END:VEVENT
END:VCALENDAR