BEGIN:VCALENDAR
VERSION:2.0
PRODID:-//QCSportsNet - The Quad Cities Live Local Sports Leader - ECPv4.9.8//NONSGML v1.0//EN
CALSCALE:GREGORIAN
METHOD:PUBLISH
X-WR-CALNAME:QCSportsNet - The Quad Cities Live Local Sports Leader
X-ORIGINAL-URL:http://qcsportsnet.com
X-WR-CALDESC:Events for QCSportsNet - The Quad Cities Live Local Sports Leader
BEGIN:VTIMEZONE
TZID:America/Chicago
BEGIN:DAYLIGHT
TZOFFSETFROM:-0600
TZOFFSETTO:-0500
TZNAME:CDT
DTSTART:20190310T080000
END:DAYLIGHT
BEGIN:STANDARD
TZOFFSETFROM:-0500
TZOFFSETTO:-0600
TZNAME:CST
DTSTART:20191103T070000
END:STANDARD
END:VTIMEZONE
BEGIN:VEVENT
DTSTART;TZID="America/Chicago":20190531T161500
DTEND;TZID="America/Chicago":20190531T190000
DTSTAMP:20260424T233844
CREATED:20190531T020242Z
LAST-MODIFIED:20190531T020242Z
UID:1904-1559319300-1559329200@qcsportsnet.com
SUMMARY:Moline vs O'Fallon at Normal - Sectional Final\, Friday May 31st
DESCRIPTION: \nClick here for live Moline broadcasts\n\nFriday\, May 31st – Moline softball vs O’Fallon at Normal sectional final\, 4:15 PM pregame/4:30 PM first pitch\n\n
URL:http://qcsportsnet.com/calendar/moline-vs-ofallon-at-normal-sectional-final-friday-may-31st/
CATEGORIES:Moline,Softball,State playoffs,Western Big 6
END:VEVENT
END:VCALENDAR