BEGIN:VCALENDAR
VERSION:2.0
PRODID:-//QCSportsNet - The Quad Cities Live Local Sports Leader - ECPv4.9.8//NONSGML v1.0//EN
CALSCALE:GREGORIAN
METHOD:PUBLISH
X-WR-CALNAME:QCSportsNet - The Quad Cities Live Local Sports Leader
X-ORIGINAL-URL:http://qcsportsnet.com
X-WR-CALDESC:Events for QCSportsNet - The Quad Cities Live Local Sports Leader
BEGIN:VTIMEZONE
TZID:America/New_York
BEGIN:DAYLIGHT
TZOFFSETFROM:-0500
TZOFFSETTO:-0400
TZNAME:EDT
DTSTART:20170312T070000
END:DAYLIGHT
BEGIN:STANDARD
TZOFFSETFROM:-0400
TZOFFSETTO:-0500
TZNAME:EST
DTSTART:20171105T060000
END:STANDARD
END:VTIMEZONE
BEGIN:VEVENT
DTSTART;VALUE=DATE:20171219
DTEND;VALUE=DATE:20171220
DTSTAMP:20260425T023849
CREATED:20171218T132750Z
LAST-MODIFIED:20171219T130641Z
UID:1154-1513641600-1513727999@qcsportsnet.com
SUMMARY:Pleasant Valley at Davenport North - Tuesday\, December 19th
DESCRIPTION:  \nClick here to listen to all Pleasant Valley Spartan game broadcasts\nTuesday\, December 19th – Pleasant Valley boys vs Davenport North\, pregame 7:10 PM/tipoff 7:30 PM \n
URL:http://qcsportsnet.com/calendar/pleasant-valley-at-davenport-north-tuesday-december-19th/
CATEGORIES:Boys basketball,MAC
ATTACH;FMTTYPE=image/jpeg:http://qcsportsnet.com/wp-content/uploads/2015/11/PV-spartans.jpeg
END:VEVENT
END:VCALENDAR