BEGIN:VCALENDAR
VERSION:2.0
PRODID:-//QCSportsNet - The Quad Cities Live Local Sports Leader - ECPv4.9.8//NONSGML v1.0//EN
CALSCALE:GREGORIAN
METHOD:PUBLISH
X-WR-CALNAME:QCSportsNet - The Quad Cities Live Local Sports Leader
X-ORIGINAL-URL:http://qcsportsnet.com
X-WR-CALDESC:Events for QCSportsNet - The Quad Cities Live Local Sports Leader
BEGIN:VTIMEZONE
TZID:America/New_York
BEGIN:DAYLIGHT
TZOFFSETFROM:-0500
TZOFFSETTO:-0400
TZNAME:EDT
DTSTART:20170312T070000
END:DAYLIGHT
BEGIN:STANDARD
TZOFFSETFROM:-0400
TZOFFSETTO:-0500
TZNAME:EST
DTSTART:20171105T060000
END:STANDARD
END:VTIMEZONE
BEGIN:VEVENT
DTSTART;TZID="America/New_York":20171020T191000
DTEND;TZID="America/New_York":20171020T221500
DTSTAMP:20260424T215348
CREATED:20171017T121242Z
LAST-MODIFIED:20171018T132808Z
UID:1068-1508526600-1508537700@qcsportsnet.com
SUMMARY:QCSportsNet Friday Night Football - October 20
DESCRIPTION: \nBroadcast schedule for Friday\, October 20\n \nMoline Maroons – Click here for live game coverage\nMoline vs Palos Hills (Stagg) – Coverage begins at 7:10 PM\n \nPleasant Valley Spartans – Click here for live game coverage\nPleasant Valley at Dubuque Senior – Coverage begins at 7:10 PM\n \nRock Island Rocks – Click here for live game coverage\nRock Island vs Aurora (Matea Valley) – Coverage begins at 7:10 PM\n
URL:http://qcsportsnet.com/calendar/qcsportsnet-friday-night-football-october-20/
CATEGORIES:Football,MAC,Western Big 6
ATTACH;FMTTYPE=image/png:http://qcsportsnet.com/wp-content/uploads/2014/07/qc-sports-net-banner-2.png
END:VEVENT
END:VCALENDAR