BEGIN:VCALENDAR
VERSION:2.0
PRODID:-//QCSportsNet - The Quad Cities Live Local Sports Leader - ECPv4.9.8//NONSGML v1.0//EN
CALSCALE:GREGORIAN
METHOD:PUBLISH
X-WR-CALNAME:QCSportsNet - The Quad Cities Live Local Sports Leader
X-ORIGINAL-URL:http://qcsportsnet.com
X-WR-CALDESC:Events for QCSportsNet - The Quad Cities Live Local Sports Leader
BEGIN:VTIMEZONE
TZID:America/New_York
BEGIN:DAYLIGHT
TZOFFSETFROM:-0500
TZOFFSETTO:-0400
TZNAME:EDT
DTSTART:20170312T070000
END:DAYLIGHT
BEGIN:STANDARD
TZOFFSETFROM:-0400
TZOFFSETTO:-0500
TZNAME:EST
DTSTART:20171105T060000
END:STANDARD
END:VTIMEZONE
BEGIN:VEVENT
DTSTART;TZID="America/New_York":20171006T190000
DTEND;TZID="America/New_York":20171006T223000
DTSTAMP:20260425T012524
CREATED:20171004T022556Z
LAST-MODIFIED:20171004T022916Z
UID:1059-1507316400-1507329000@qcsportsnet.com
SUMMARY:QCSportsNet Friday Night Football - October 6
DESCRIPTION: \nBroadcast schedule for Friday\, October 6\n \nMoline Maroons – Click here for live game coverage\nMoline vs. Quincy – Coverage begins at 7:10 PM\n \nPleasant Valley Spartans – Click here for live game coverage\nPleasant Valley at North Scott – Coverage begins at 7:00 PM (PLEASE NOTE EARLIER START TIME!!)\n \nRock Island Rocks – Click here for live game coverage\nRock Island at United Township – Coverage begins at 7:10 PM\n
URL:http://qcsportsnet.com/calendar/qcsportsnet-friday-night-football-october-6/
CATEGORIES:Football,MAC,Western Big 6
ATTACH;FMTTYPE=image/jpeg:http://qcsportsnet.com/wp-content/uploads/2015/12/QC_black_300dpi.jpg
END:VEVENT
END:VCALENDAR