BEGIN:VCALENDAR
VERSION:2.0
PRODID:-//QCSportsNet - The Quad Cities Live Local Sports Leader - ECPv4.9.8//NONSGML v1.0//EN
CALSCALE:GREGORIAN
METHOD:PUBLISH
X-WR-CALNAME:QCSportsNet - The Quad Cities Live Local Sports Leader
X-ORIGINAL-URL:http://qcsportsnet.com
X-WR-CALDESC:Events for QCSportsNet - The Quad Cities Live Local Sports Leader
BEGIN:VTIMEZONE
TZID:America/Chicago
BEGIN:DAYLIGHT
TZOFFSETFROM:-0600
TZOFFSETTO:-0500
TZNAME:CDT
DTSTART:20180311T080000
END:DAYLIGHT
BEGIN:STANDARD
TZOFFSETFROM:-0500
TZOFFSETTO:-0600
TZNAME:CST
DTSTART:20181104T070000
END:STANDARD
END:VTIMEZONE
BEGIN:VEVENT
DTSTART;VALUE=DATE:20180223
DTEND;VALUE=DATE:20180224
DTSTAMP:20260425T112503
CREATED:20180219T034517Z
LAST-MODIFIED:20180219T034517Z
UID:1378-1519344000-1519430399@qcsportsnet.com
SUMMARY:QCSportsNet high school basketball - February 23rd
DESCRIPTION: \nClick here to listen live to Pleasant Valley Spartans broadcasts\n\nFriday\, February 23rd – Pleasant Valley boys vs Cedar Rapids Jefferson/Linn-Mar winner\, Iowa 4A substate semifinal – pregame 6:40 PM/tipoff 7:00 PM\n\n \nClick here to listen live to Rock Island Rocks broadcasts\n\nFriday\, February 23rd – Rock Island boys vs United Township\, pregame 7:10 PM/tipoff 7:30 PM\n\n \nClick here to listen live to United Township Panthers broadcasts\n\nFriday\, February 23rd – United Township boys at Rock Island\, pregame 7:10 PM/tipoff 7:30 PM\n\n\n
URL:http://qcsportsnet.com/calendar/qcsportsnet-high-school-basketball-february-23rd/
CATEGORIES:Boys basketball,MAC,Pleasant Valley,Rock Island,State playoffs,United Township,Western Big 6
ATTACH;FMTTYPE=image/jpeg:http://qcsportsnet.com/wp-content/uploads/2018/01/QCSportsNet_02_300dpi.jpg
END:VEVENT
END:VCALENDAR