BEGIN:VCALENDAR
VERSION:2.0
PRODID:-//QCSportsNet - The Quad Cities Live Local Sports Leader - ECPv4.9.8//NONSGML v1.0//EN
CALSCALE:GREGORIAN
METHOD:PUBLISH
X-WR-CALNAME:QCSportsNet - The Quad Cities Live Local Sports Leader
X-ORIGINAL-URL:http://qcsportsnet.com
X-WR-CALDESC:Events for QCSportsNet - The Quad Cities Live Local Sports Leader
BEGIN:VTIMEZONE
TZID:America/Chicago
BEGIN:DAYLIGHT
TZOFFSETFROM:-0600
TZOFFSETTO:-0500
TZNAME:CDT
DTSTART:20190310T080000
END:DAYLIGHT
BEGIN:STANDARD
TZOFFSETFROM:-0500
TZOFFSETTO:-0600
TZNAME:CST
DTSTART:20191103T070000
END:STANDARD
END:VTIMEZONE
BEGIN:VEVENT
DTSTART;TZID="America/Chicago":20190225T184000
DTEND;TZID="America/Chicago":20190225T211500
DTSTAMP:20260424T233415
CREATED:20190225T122257Z
LAST-MODIFIED:20190225T122257Z
UID:1863-1551120000-1551129300@qcsportsnet.com
SUMMARY:Rock Island girls vs Mother McAuley - Illinois Class 4A Supersectional
DESCRIPTION:  \nClick here to listen to live Rock Island broadcasts\n\nMonday\, February 25th – Rock Island girls vs Mother McAuley at Illinois Wesleyan University (IHSA Class 4A Supersectional) – 6:40 PM pregame/7:00 PM tipoff\n\n
URL:http://qcsportsnet.com/calendar/rock-island-girls-vs-mother-mcauley-illinois-class-4a-supersectional/
CATEGORIES:Girls Basketball,Rock Island,State playoffs,Western Big 6
ATTACH;FMTTYPE=image/png:http://qcsportsnet.com/wp-content/uploads/2015/03/Rock-Island-Rocks-Logo.png
END:VEVENT
END:VCALENDAR