BEGIN:VCALENDAR
VERSION:2.0
PRODID:-//QCSportsNet - The Quad Cities Live Local Sports Leader - ECPv4.9.8//NONSGML v1.0//EN
CALSCALE:GREGORIAN
METHOD:PUBLISH
X-WR-CALNAME:QCSportsNet - The Quad Cities Live Local Sports Leader
X-ORIGINAL-URL:http://qcsportsnet.com
X-WR-CALDESC:Events for QCSportsNet - The Quad Cities Live Local Sports Leader
BEGIN:VTIMEZONE
TZID:America/Chicago
BEGIN:DAYLIGHT
TZOFFSETFROM:-0600
TZOFFSETTO:-0500
TZNAME:CDT
DTSTART:20190310T080000
END:DAYLIGHT
BEGIN:STANDARD
TZOFFSETFROM:-0500
TZOFFSETTO:-0600
TZNAME:CST
DTSTART:20191103T070000
END:STANDARD
END:VTIMEZONE
BEGIN:VEVENT
DTSTART;TZID="America/Chicago":20190529T161500
DTEND;TZID="America/Chicago":20190529T190000
DTSTAMP:20260424T233402
CREATED:20190528T115711Z
LAST-MODIFIED:20190529T181822Z
UID:1897-1559146500-1559156400@qcsportsnet.com
SUMMARY:Rock Island vs Moline - Regional Softball\, WEDNESDAY MAY 29TH
DESCRIPTION: \nClick here for live Rock Island broadcasts\n\nWEDNESDAY\, MAY 29TH – Rock Island softball vs Moline at ROCKRIDGE HIGH SCHOOL\, 4:15 PM pregame/4:30 PM first pitch\n\n
URL:http://qcsportsnet.com/calendar/rock-island-vs-moline-regional-softball-tuesday-may-28th/
CATEGORIES:Moline,Rock Island,Softball,State playoffs,Western Big 6
ATTACH;FMTTYPE=image/jpeg:http://qcsportsnet.com/wp-content/uploads/2019/05/Drive-to-the-Championship.jpg
END:VEVENT
END:VCALENDAR