BEGIN:VCALENDAR
VERSION:2.0
PRODID:-//QCSportsNet - The Quad Cities Live Local Sports Leader - ECPv4.9.8//NONSGML v1.0//EN
CALSCALE:GREGORIAN
METHOD:PUBLISH
X-WR-CALNAME:QCSportsNet - The Quad Cities Live Local Sports Leader
X-ORIGINAL-URL:http://qcsportsnet.com
X-WR-CALDESC:Events for QCSportsNet - The Quad Cities Live Local Sports Leader
BEGIN:VTIMEZONE
TZID:America/New_York
BEGIN:DAYLIGHT
TZOFFSETFROM:-0500
TZOFFSETTO:-0400
TZNAME:EDT
DTSTART:20160313T070000
END:DAYLIGHT
BEGIN:STANDARD
TZOFFSETFROM:-0400
TZOFFSETTO:-0500
TZNAME:EST
DTSTART:20161106T060000
END:STANDARD
END:VTIMEZONE
BEGIN:VEVENT
DTSTART;TZID="America/New_York":20160315T184000
DTEND;TZID="America/New_York":20160315T210000
DTSTAMP:20260425T130909
CREATED:20160315T220147Z
LAST-MODIFIED:20160315T220147Z
UID:853-1458067200-1458075600@qcsportsnet.com
SUMMARY:United Township vs. Chicago Simeon - Illinois State University Supersectional\, March 15 2016
DESCRIPTION: \nUnited Township Games – Click here to listen live\nUnited Township vs. Chicago Simeon \nIllinois Class 4A Supersectional \nRedbird Arena\, Illinois State University \nPregame 6:40 PM Tip-off 7 PM \nAnnouncers – Joe Winkel and Tanner Rowe \n
URL:http://qcsportsnet.com/calendar/ut20160315/
CATEGORIES:Boys basketball,State playoffs,Western Big 6
END:VEVENT
END:VCALENDAR