BEGIN:VCALENDAR
VERSION:2.0
PRODID:-//QCSportsNet - The Quad Cities Live Local Sports Leader - ECPv4.9.8//NONSGML v1.0//EN
CALSCALE:GREGORIAN
METHOD:PUBLISH
X-WR-CALNAME:QCSportsNet - The Quad Cities Live Local Sports Leader
X-ORIGINAL-URL:https://qcsportsnet.com
X-WR-CALDESC:Events for QCSportsNet - The Quad Cities Live Local Sports Leader
BEGIN:VTIMEZONE
TZID:America/Chicago
BEGIN:DAYLIGHT
TZOFFSETFROM:-0600
TZOFFSETTO:-0500
TZNAME:CDT
DTSTART:20180311T080000
END:DAYLIGHT
BEGIN:STANDARD
TZOFFSETFROM:-0500
TZOFFSETTO:-0600
TZNAME:CST
DTSTART:20181104T070000
END:STANDARD
END:VTIMEZONE
BEGIN:VEVENT
DTSTART;TZID="America/Chicago":20180824T174000
DTEND;TZID="America/Chicago":20180824T221500
DTSTAMP:20260425T005723
CREATED:20180822T025624Z
LAST-MODIFIED:20180824T201042Z
UID:1445-1535132400-1535148900@qcsportsnet.com
SUMMARY:QCSportsNet Friday Night Football - Friday\, August 24th
DESCRIPTION: \nPLEASE NOTE START TIME CHANGES FOR TONIGHT’S GAMES!! \n\nRock Island vs St. Charles East starts at approximately 6 PM\nBettendorf vs. Pleasant Valley starts at approximately 6:30 PM\n\n  \n \nClick here to listen to live Bettendorf broadcasts\n\nFriday\, August 24th – Bettendorf vs. Pleasant Valley\, pregame approximately 6:10 PM/kickoff approximately 6:30 PM\n\n \nClick here to listen to live Moline broadcasts\n\nFriday\, August 24th – Moline at Geneseo\, pregame 7:10 PM/kickoff 7:30 PM\n\n \nClick here to listen to live Pleasant Valley broadcasts\n\nFriday\, August 24th – Pleasant Valley at Bettendorf\, pregame approximately 6:10 PM/kickoff approximately 6:30 PM\n\n \nClick here to listen to live Rock Island broadcasts\n\nFriday\, August 24th – Rock Island vs. St. Charles East\, pregame 5:40 PM/kickoff 6:00 PM\n\n \nClick here to listen to live United Township broadcasts\n\nFriday\, August 24th – United Township vs. Davenport West\, pregame 7:10 PM/kickoff 7:30 PM\n\nOur entire 2018 football broadcast schedule for QCSportsNet is linked below. This ischedule will give you the station and date for each of sour five teams’ football gamies for the coming season. QCSportsNet will cover every football game – home\, away\, and playoffs – for our five schools! \nQCSportsNet 2018 Football Schedule \n \n
URL:https://qcsportsnet.com/calendar/2018-08-24-schedule/
CATEGORIES:Football,MAC,Western Big 6
ATTACH;FMTTYPE=image/jpeg:https://qcsportsnet.com/wp-content/uploads/2014/08/QC_blue_300dpi.jpg
END:VEVENT
END:VCALENDAR