BEGIN:VCALENDAR
VERSION:2.0
PRODID:-//QCSportsNet - The Quad Cities Live Local Sports Leader - ECPv4.9.8//NONSGML v1.0//EN
CALSCALE:GREGORIAN
METHOD:PUBLISH
X-WR-CALNAME:QCSportsNet - The Quad Cities Live Local Sports Leader
X-ORIGINAL-URL:https://qcsportsnet.com
X-WR-CALDESC:Events for QCSportsNet - The Quad Cities Live Local Sports Leader
BEGIN:VTIMEZONE
TZID:America/Chicago
BEGIN:DAYLIGHT
TZOFFSETFROM:-0600
TZOFFSETTO:-0500
TZNAME:CDT
DTSTART:20190310T080000
END:DAYLIGHT
BEGIN:STANDARD
TZOFFSETFROM:-0500
TZOFFSETTO:-0600
TZNAME:CST
DTSTART:20191103T070000
END:STANDARD
END:VTIMEZONE
BEGIN:VEVENT
DTSTART;TZID="America/Chicago":20190131T181500
DTEND;TZID="America/Chicago":20190131T213000
DTSTAMP:20260426T005842
CREATED:20190130T182849Z
LAST-MODIFIED:20190131T203346Z
UID:1752-1548958500-1548970200@qcsportsnet.com
SUMMARY:High School Basketball - Thursday\, January 31st
DESCRIPTION:  \n \nClick here to listen to live Bettendorf broadcasts\n\nThursday\, January 31st – Bettendorf boys vs Clinton\, 7:15 PM pregame/7:30 PM tipoff (POSTPONED – MAKEUP DATE/TIME TBD)\n\n \nClick here to listen to live Moline broadcasts\n\nThursday\, January 31st – Moline girls vs Galesburg\, 6:15 PM pregame/6:30 PM tipoff (POSTPONED UNTIL TUESDAY FEBRUARY 5TH)\n\n  \n \nClick here to listen to live United Township broadcasts\n\nThursday\, January 31st – United Township girls vs Quincy\, 6:15 PM/6:30 PM tipoff (POSTPONED UNTIL TUESDAY FEBRUARY 5TH)\n\n
URL:https://qcsportsnet.com/calendar/high-school-basketball-2019-01-31/
CATEGORIES:Bettendorf,Boys basketball,Girls Basketball,MAC,Moline,United Township,Western Big 6
ATTACH;FMTTYPE=image/jpeg:https://qcsportsnet.com/wp-content/uploads/2018/01/QCSportsNet_02_300dpi.jpg
END:VEVENT
END:VCALENDAR