BEGIN:VCALENDAR
VERSION:2.0
PRODID:-//QCSportsNet - The Quad Cities Live Local Sports Leader - ECPv4.9.8//NONSGML v1.0//EN
CALSCALE:GREGORIAN
METHOD:PUBLISH
X-WR-CALNAME:QCSportsNet - The Quad Cities Live Local Sports Leader
X-ORIGINAL-URL:https://qcsportsnet.com
X-WR-CALDESC:Events for QCSportsNet - The Quad Cities Live Local Sports Leader
BEGIN:VTIMEZONE
TZID:America/Chicago
BEGIN:DAYLIGHT
TZOFFSETFROM:-0600
TZOFFSETTO:-0500
TZNAME:CDT
DTSTART:20190310T080000
END:DAYLIGHT
BEGIN:STANDARD
TZOFFSETFROM:-0500
TZOFFSETTO:-0600
TZNAME:CST
DTSTART:20191103T070000
END:STANDARD
END:VTIMEZONE
BEGIN:VEVENT
DTSTART;TZID="America/Chicago":20190201T191500
DTEND;TZID="America/Chicago":20190201T213000
DTSTAMP:20260425T233350
CREATED:20190130T183426Z
LAST-MODIFIED:20190130T183526Z
UID:1754-1549048500-1549056600@qcsportsnet.com
SUMMARY:High School Basketball - Friday\, February 1st
DESCRIPTION: \nClick here to listen to live United Township broadcasts\n\nFriday\, February 1st – United Township boys vs Galesburg\, 7:15 PM pregame/7:30 PM tipoff\n\n \nClick here to listen to live Rock Island broadcasts\n\nFriday\, February 1st – Rock Island boys at Moline\, 7:15 PM pregame/7:30 PM tipoff\n\n \nClick here to listen to live Pleasant Valley broadcasts\n\nFriday\, February 1st – Pleasant Valley boys vs Davenport North\, 7:15 PM pregame/7:30 PM tipoff\n\n \nClick here to listen to live Moline broadcasts\n\nFriday\, February 1st – Moline boys vs Rock Island\, 7:15 PM pregame/7:30 PM tipoff\n\n  \n \nClick here to listen to live Bettendorf broadcasts\n\nFriday\, February 1st – Bettendorf boys at Muscatine\, 7:15 PM pregame/7:30 PM tipoff\n\n
URL:https://qcsportsnet.com/calendar/high-school-basketball-2019-02-01/
CATEGORIES:Bettendorf,Boys basketball,MAC,Moline,Pleasant Valley,Rock Island,United Township,Western Big 6
ATTACH;FMTTYPE=image/jpeg:https://qcsportsnet.com/wp-content/uploads/2018/01/QCSportsNet_02_300dpi.jpg
END:VEVENT
END:VCALENDAR