BEGIN:VCALENDAR
VERSION:2.0
PRODID:-//QCSportsNet - The Quad Cities Live Local Sports Leader - ECPv4.9.8//NONSGML v1.0//EN
CALSCALE:GREGORIAN
METHOD:PUBLISH
X-WR-CALNAME:QCSportsNet - The Quad Cities Live Local Sports Leader
X-ORIGINAL-URL:https://qcsportsnet.com
X-WR-CALDESC:Events for QCSportsNet - The Quad Cities Live Local Sports Leader
BEGIN:VTIMEZONE
TZID:America/Chicago
BEGIN:DAYLIGHT
TZOFFSETFROM:-0600
TZOFFSETTO:-0500
TZNAME:CDT
DTSTART:20190310T080000
END:DAYLIGHT
BEGIN:STANDARD
TZOFFSETFROM:-0500
TZOFFSETTO:-0600
TZNAME:CST
DTSTART:20191103T070000
END:STANDARD
END:VTIMEZONE
BEGIN:VEVENT
DTSTART;TZID="America/Chicago":20190206T174500
DTEND;TZID="America/Chicago":20190206T213000
DTSTAMP:20260425T154323
CREATED:20190204T122725Z
LAST-MODIFIED:20190207T000725Z
UID:1775-1549475100-1549488600@qcsportsnet.com
SUMMARY:High School Basketball - Wednesday\, February 6th
DESCRIPTION: \nClick here to listen to live United Township broadcasts\n\nWednesday\, February 6th – United Township girls vs Quincy\, 6:15 PM pregame/6:30 PM tipoff\n\n\nClick here to listen to live Pleasant Valley broadcasts\n\nWednesday\, February 6th games (Varsity doubleheader)\n\nPleasant Valley girls vs Bettendorf\, 5:45 PM pregame/6:00 PM tipoff\nPleasant Valley boys vs Bettendorf\, 7:15 PM pregame/7:30 PM tipoff\n\n\n\n \nClick here to listen to live Bettendorf broadcasts\n\nWednesday\, February 6th games (Varsity doubleheader)\n\nBettendorf girls vs Pleasant Valley\, 5:45 PM pregame/6:00 PM tipoff\nBettendorf boys vs Pleasant Valley\, 7:15 PM pregame/7:30 PM tipoff\n\n\n\n \nClick here to listen to live Moline broadcasts\n\nWednesday\, February 6th – Moline girls vs Galesburg\, 6:15 PM pregame/6:30 PM tipoff\n\n
URL:https://qcsportsnet.com/calendar/high-school-basketball-tuesday-february-5th/
CATEGORIES:Bettendorf,Boys basketball,MAC,Moline,Pleasant Valley,United Township,Western Big 6
END:VEVENT
END:VCALENDAR