BEGIN:VCALENDAR
VERSION:2.0
PRODID:-//QCSportsNet - The Quad Cities Live Local Sports Leader - ECPv4.9.8//NONSGML v1.0//EN
CALSCALE:GREGORIAN
METHOD:PUBLISH
X-WR-CALNAME:QCSportsNet - The Quad Cities Live Local Sports Leader
X-ORIGINAL-URL:https://qcsportsnet.com
X-WR-CALDESC:Events for QCSportsNet - The Quad Cities Live Local Sports Leader
BEGIN:VTIMEZONE
TZID:America/Chicago
BEGIN:DAYLIGHT
TZOFFSETFROM:-0600
TZOFFSETTO:-0500
TZNAME:CDT
DTSTART:20190310T080000
END:DAYLIGHT
BEGIN:STANDARD
TZOFFSETFROM:-0500
TZOFFSETTO:-0600
TZNAME:CST
DTSTART:20191103T070000
END:STANDARD
END:VTIMEZONE
BEGIN:VEVENT
DTSTART;TZID="America/Chicago":20190208T174500
DTEND;TZID="America/Chicago":20190208T213000
DTSTAMP:20260425T122531
CREATED:20190207T034805Z
LAST-MODIFIED:20190209T004313Z
UID:1787-1549647900-1549661400@qcsportsnet.com
SUMMARY:High School Basketball - Friday\, February 8th
DESCRIPTION: \nClick here to listen to live Bettendorf broadcasts\n\nFriday\, February 8th – Bettendorf boys vs Davenport Assumption\, 7:15 PM pregame/7:30 PM tipoff (game can also be heard live on WFXN Fox Sports Radio 1230 AM)\nFriday\, February 8th – Bettendorf girls at Davenport Assumption\, 7:15 PM pregame/7:30 PM tipoff (GAME IS ON OUR QCSPORTSNET EXTRA CHANNEL)\n\n \nClick here to listen to live Moline broadcasts\n\nFriday\, February 8th – Moline boys at United Township\, 7:15 PM pregame/7:30 PM tipoff\n\n  \n \nClick here to listen to live Pleasant Valley broadcasts\n\nFriday\, February 8th games\n\nPleasant Valley girls at Clinton\, 5:45 PM pregame/6:00 PM tipoff\nPleasant Valley boys at Clinton\, 7:15 PM pregame/7:30 PM tipoff\n\n\n\n \nClick here to listen to live Rock Island broadcasts\n\nFriday\, February 8th – Rock Island boys vs Quincy\, 7:15 PM pregame/7:30 PM tipoff\n\n \nClick here to listen to live United Township broadcasts\n\nFriday\, February 8th – United Township boys vs Moline\, 7:15 PM pregame/7:30 PM tipoff\n\n
URL:https://qcsportsnet.com/calendar/high-school-basketball-friday-february-9th/
CATEGORIES:Bettendorf,Boys basketball,Girls Basketball,MAC,Moline,Pleasant Valley,Rock Island,United Township,Western Big 6
ATTACH;FMTTYPE=image/jpeg:https://qcsportsnet.com/wp-content/uploads/2018/01/QCSportsNet_02_300dpi.jpg
END:VEVENT
END:VCALENDAR