BEGIN:VCALENDAR
VERSION:2.0
PRODID:-//QCSportsNet - The Quad Cities Live Local Sports Leader - ECPv4.9.8//NONSGML v1.0//EN
CALSCALE:GREGORIAN
METHOD:PUBLISH
X-WR-CALNAME:QCSportsNet - The Quad Cities Live Local Sports Leader
X-ORIGINAL-URL:https://qcsportsnet.com
X-WR-CALDESC:Events for QCSportsNet - The Quad Cities Live Local Sports Leader
BEGIN:VTIMEZONE
TZID:America/Chicago
BEGIN:DAYLIGHT
TZOFFSETFROM:-0600
TZOFFSETTO:-0500
TZNAME:CDT
DTSTART:20190310T080000
END:DAYLIGHT
BEGIN:STANDARD
TZOFFSETFROM:-0500
TZOFFSETTO:-0600
TZNAME:CST
DTSTART:20191103T070000
END:STANDARD
END:VTIMEZONE
BEGIN:VEVENT
DTSTART;TZID="America/Chicago":20190209T181500
DTEND;TZID="America/Chicago":20190209T203000
DTSTAMP:20260425T104705
CREATED:20190207T035216Z
LAST-MODIFIED:20190207T035216Z
UID:1790-1549736100-1549744200@qcsportsnet.com
SUMMARY:Western Big 6 boys basketball - Saturday\, February 9th
DESCRIPTION: \nClick here to listen to live Rock Island broadcasts\n\nSaturday\, February 9th – Rock Island boys vs Marmion Academy\, 6:15 PM pregame/6:30 PM tipoff\n\n \nClick here to listen to live United Township broadcasts\n\nSaturday\, February 9th – United Township boys vs Chicago Perspectives/IIT Math & Science Academy\, 6:15 PM pregame/6:30 PM tipoff\n\n \nClick here to listen to live Moline broadcasts\n\nSaturday\, February 9th – Moline boys at Peoria Manual\, 6:15 PM pregame/6:30 PM tipoff\n\n  \n
URL:https://qcsportsnet.com/calendar/western-big-6-boys-basketball-saturday-february-9th/
CATEGORIES:Boys basketball,Moline,Rock Island,United Township,Western Big 6
ATTACH;FMTTYPE=image/jpeg:https://qcsportsnet.com/wp-content/uploads/2018/01/QCSportsNet_02_300dpi.jpg
END:VEVENT
END:VCALENDAR