BEGIN:VCALENDAR
VERSION:2.0
PRODID:-//QCSportsNet - The Quad Cities Live Local Sports Leader - ECPv4.9.8//NONSGML v1.0//EN
CALSCALE:GREGORIAN
METHOD:PUBLISH
X-WR-CALNAME:QCSportsNet - The Quad Cities Live Local Sports Leader
X-ORIGINAL-URL:https://qcsportsnet.com
X-WR-CALDESC:Events for QCSportsNet - The Quad Cities Live Local Sports Leader
BEGIN:VTIMEZONE
TZID:America/Chicago
BEGIN:DAYLIGHT
TZOFFSETFROM:-0600
TZOFFSETTO:-0500
TZNAME:CDT
DTSTART:20190310T080000
END:DAYLIGHT
BEGIN:STANDARD
TZOFFSETFROM:-0500
TZOFFSETTO:-0600
TZNAME:CST
DTSTART:20191103T070000
END:STANDARD
END:VTIMEZONE
BEGIN:VEVENT
DTSTART;TZID="America/Chicago":20190215T191500
DTEND;TZID="America/Chicago":20190215T213000
DTSTAMP:20260425T005722
CREATED:20190214T121415Z
LAST-MODIFIED:20190214T122038Z
UID:1830-1550258100-1550266200@qcsportsnet.com
SUMMARY:Western Big 6 boys basketball - Friday\, February 15th
DESCRIPTION: \nClick here to listen to live United Township broadcasts\n\nFriday\, February 15th – United Township boys at Quincy\, 7:15 PM pregame/7:30 PM tipoff\n\n \nClick here to listen to live Rock Island broadcasts\n\nFriday\, February 15th – Rock Island boys vs Rock Island Alleman\, 7:15 PM pregame/7:30 PM tipoff\n\n
URL:https://qcsportsnet.com/calendar/2019-02-15/
CATEGORIES:Boys basketball,Rock Island,United Township,Western Big 6
ATTACH;FMTTYPE=image/jpeg:https://qcsportsnet.com/wp-content/uploads/2018/01/QCSportsNet_02_300dpi.jpg
END:VEVENT
END:VCALENDAR