BEGIN:VCALENDAR
VERSION:2.0
PRODID:-//QCSportsNet - The Quad Cities Live Local Sports Leader - ECPv4.9.8//NONSGML v1.0//EN
CALSCALE:GREGORIAN
METHOD:PUBLISH
X-WR-CALNAME:QCSportsNet - The Quad Cities Live Local Sports Leader
X-ORIGINAL-URL:https://qcsportsnet.com
X-WR-CALDESC:Events for QCSportsNet - The Quad Cities Live Local Sports Leader
BEGIN:VTIMEZONE
TZID:America/Chicago
BEGIN:DAYLIGHT
TZOFFSETFROM:-0600
TZOFFSETTO:-0500
TZNAME:CDT
DTSTART:20140309T080000
END:DAYLIGHT
BEGIN:STANDARD
TZOFFSETFROM:-0500
TZOFFSETTO:-0600
TZNAME:CST
DTSTART:20141102T070000
END:STANDARD
END:VTIMEZONE
BEGIN:VEVENT
DTSTART;TZID="America/Chicago":20141114T154500
DTEND;TZID="America/Chicago":20141114T190000
DTSTAMP:20260425T010029
CREATED:20141111T025956Z
LAST-MODIFIED:20141111T025956Z
UID:360-1415979900-1415991600@qcsportsnet.com
SUMMARY:Bettendorf vs. Cedar Rapids Washington - Iowa Class 4A Semifinal
DESCRIPTION: \n  \nThe Bettendorf Bulldogs are in the Iowa Class 4A football playoff semifinals for the fifth time in six years. Join ESPN Radio Quad Cities as we follow the Bulldogs to the UNI-Dome this Friday for their semifinal showdown with the Cedar Rapids Washington Warriors. It’s a battle of #1 vs. #2 from the Dome\, and the only place you can hear the game live in the Quad Cities is on ESPN Radio. \nJoin Mitch Widmeier (play by play) and Dallon Christensen (pre-game/post-game host and analysis) from Cedar Falls starting at 3:45 PM with the pregame show. You can listen to the broadcast in one of three ways. \n\nOn the radio at ESPN 93.5 FM\nOn the web at www.espn935.com\nOn the web at qcsn.co/espn935\n\nESPN Radio is the Quad Cities Sports Leader and your exclusive local home of the Iowa state football semifinals from the UNI-Dome! \n
URL:https://qcsportsnet.com/calendar/bettendorf-vs-cedar-rapids-washington-iowa-class-4a-semifinal/
LOCATION:UNI-Dome\, Cedar Falls\, IA\, United States
CATEGORIES:State playoffs
END:VEVENT
END:VCALENDAR