BEGIN:VCALENDAR
VERSION:2.0
PRODID:-//QCSportsNet - The Quad Cities Live Local Sports Leader - ECPv4.9.8//NONSGML v1.0//EN
CALSCALE:GREGORIAN
METHOD:PUBLISH
X-WR-CALNAME:QCSportsNet - The Quad Cities Live Local Sports Leader
X-ORIGINAL-URL:https://qcsportsnet.com
X-WR-CALDESC:Events for QCSportsNet - The Quad Cities Live Local Sports Leader
BEGIN:VTIMEZONE
TZID:America/Chicago
BEGIN:DAYLIGHT
TZOFFSETFROM:-0600
TZOFFSETTO:-0500
TZNAME:CDT
DTSTART:20150308T080000
END:DAYLIGHT
BEGIN:STANDARD
TZOFFSETFROM:-0500
TZOFFSETTO:-0600
TZNAME:CST
DTSTART:20151101T070000
END:STANDARD
END:VTIMEZONE
BEGIN:VEVENT
DTSTART;TZID="America/Chicago":20150226T064500
DTEND;TZID="America/Chicago":20150226T210000
DTSTAMP:20260425T010214
CREATED:20150225T115444Z
LAST-MODIFIED:20150225T115444Z
UID:518-1424933100-1424984400@qcsportsnet.com
SUMMARY:Davenport Assumption vs. Mount Vernon - Iowa 3A district final\, February 26th
DESCRIPTION:\nGame schedule for Thursday\, February 26th\nDavenport Assumption vs. Mount Vernon at Clinton High School – Joe Winkel has the play by play call with pregame starting at 6:45 PM and tip at 7 PM on ESPN 93.5 FM\, www.espn935.com\, and qcsn.co/espn935. \n
URL:https://qcsportsnet.com/calendar/davenport-assumption-vs-mount-vernon-iowa-3a-district-final-february-26th/
CATEGORIES:Boys basketball,MAC,State playoffs
END:VEVENT
END:VCALENDAR