BEGIN:VCALENDAR
VERSION:2.0
PRODID:-//QCSportsNet - The Quad Cities Live Local Sports Leader - ECPv4.9.8//NONSGML v1.0//EN
CALSCALE:GREGORIAN
METHOD:PUBLISH
X-WR-CALNAME:QCSportsNet - The Quad Cities Live Local Sports Leader
X-ORIGINAL-URL:https://qcsportsnet.com
X-WR-CALDESC:Events for QCSportsNet - The Quad Cities Live Local Sports Leader
BEGIN:VTIMEZONE
TZID:America/Chicago
BEGIN:DAYLIGHT
TZOFFSETFROM:-0600
TZOFFSETTO:-0500
TZNAME:CDT
DTSTART:20140309T080000
END:DAYLIGHT
BEGIN:STANDARD
TZOFFSETFROM:-0500
TZOFFSETTO:-0600
TZNAME:CST
DTSTART:20141102T070000
END:STANDARD
END:VTIMEZONE
BEGIN:VEVENT
DTSTART;TZID="America/Chicago":20141010T190000
DTEND;TZID="America/Chicago":20141010T223000
DTSTAMP:20260424T202340
CREATED:20141006T082749Z
LAST-MODIFIED:20141010T113728Z
UID:248-1412967600-1412980200@qcsportsnet.com
SUMMARY:ESPN Radio/QCSportsNet Friday Night Football - Week 7
DESCRIPTION: \n  \nTwo Iowa high school games with major district championship implications highlight the Week 7 schedule on ESPN Radio’s Friday Night Football – Powered by QCSportsNet. Friday’s full schedule of five games is below. Click on the teams or the direct links to find the streaming location for your game. \n\nNorth Scott at Bettendorf (Dallon Christensen) – 7 PM on KBOB 1170 AM and qcsn.co/kbob1170\nPeoria Notre Dame at United Township (Ken Jacoby) – 7:15 PM on ESPN 93.5 FM\, www.espn935.com\, and qcsn.co/espn935\nDubuque Senior at Pleasant Valley (Mitch Widmeier) – 7:15 PM on qcsn.co/qcsnet1\nMoline at Quincy (Marco LaNave) – 7:15 PM on qcsn.co/qcsnet2\nDavenport Assumption at Clear Creek-Amana (Jeff Mooney) – 7:15 PM on qcsn.co/qcsnet3\n\n\n
URL:https://qcsportsnet.com/calendar/espn-radioqcsportsnet-friday-night-football-week-7/
CATEGORIES:Football,MAC,Western Big 6
END:VEVENT
END:VCALENDAR