BEGIN:VCALENDAR
VERSION:2.0
PRODID:-//QCSportsNet - The Quad Cities Live Local Sports Leader - ECPv4.9.8//NONSGML v1.0//EN
CALSCALE:GREGORIAN
METHOD:PUBLISH
X-WR-CALNAME:QCSportsNet - The Quad Cities Live Local Sports Leader
X-ORIGINAL-URL:https://qcsportsnet.com
X-WR-CALDESC:Events for QCSportsNet - The Quad Cities Live Local Sports Leader
BEGIN:VTIMEZONE
TZID:America/Chicago
BEGIN:DAYLIGHT
TZOFFSETFROM:-0600
TZOFFSETTO:-0500
TZNAME:CDT
DTSTART:20140309T080000
END:DAYLIGHT
BEGIN:STANDARD
TZOFFSETFROM:-0500
TZOFFSETTO:-0600
TZNAME:CST
DTSTART:20141102T070000
END:STANDARD
END:VTIMEZONE
BEGIN:VEVENT
DTSTART;TZID="America/Chicago":20141017T190000
DTEND;TZID="America/Chicago":20141017T223000
DTSTAMP:20260424T220206
CREATED:20141012T171837Z
LAST-MODIFIED:20141012T190739Z
UID:268-1413572400-1413585000@qcsportsnet.com
SUMMARY:ESPN Radio/QCSportsNet Friday Night Football Week 8
DESCRIPTION: \nPlayoff implications abound this Friday night\, and ESPN Radio’s Friday Night Football – Powered by QCSportsNet will be there for all of the action. Six games are on the schedule\, highlighted by Pleasant Valley hosting Dubuque Hempstead in a critical Iowa 4A district showdown\, Rock Island Alleman looking to clinch a playoff berth at Peoria Richwoods\, and Bettendorf looking to clinch a district title at Dubuque Senior. \nYour full Friday schedule is below. Click on your favorite team to go to the live Network 1 Sports streaming site\, or click on the links to get to your game sites. \n\nDubuque Hempstead at Pleasant Valley (Dallon Christensen) – Friday at 7 PM on KBOB 1170 AM or qcsn.co/kbob1170\nRock Island Alleman at Peoria Richwoods (Marco LaNave) – Friday at 7:10 PM on ESPN 93.5 FM\, www.espn935.com\, or qcsn.co/espn935\nBettendorf at Dubuque Senior (Mitch Widmeier) – Friday at 7:15 PM on qcsn.co/qcsnet1\nPeoria High at United Township (Ken Jacoby) – Friday at 7:15 PM on qcsn.co/qcsnet2\nFairfield at Davenport Assumption (TBA) – Friday at 7:15 PM on qcsn.co/qcsnet3\nDavenport West at North Scott (Steve Campbell) – Friday at 7:15 PM on qcsn.co/qcsnet4\n\n  \n
URL:https://qcsportsnet.com/calendar/espn-radioqcsportsnet-friday-night-football-week-8/
CATEGORIES:Football,MAC,Western Big 6
END:VEVENT
END:VCALENDAR