BEGIN:VCALENDAR
VERSION:2.0
PRODID:-//QCSportsNet - The Quad Cities Live Local Sports Leader - ECPv4.9.8//NONSGML v1.0//EN
CALSCALE:GREGORIAN
METHOD:PUBLISH
X-WR-CALNAME:QCSportsNet - The Quad Cities Live Local Sports Leader
X-ORIGINAL-URL:https://qcsportsnet.com
X-WR-CALDESC:Events for QCSportsNet - The Quad Cities Live Local Sports Leader
BEGIN:VTIMEZONE
TZID:America/Chicago
BEGIN:DAYLIGHT
TZOFFSETFROM:-0600
TZOFFSETTO:-0500
TZNAME:CDT
DTSTART:20150308T080000
END:DAYLIGHT
BEGIN:STANDARD
TZOFFSETFROM:-0500
TZOFFSETTO:-0600
TZNAME:CST
DTSTART:20151101T070000
END:STANDARD
END:VTIMEZONE
BEGIN:VEVENT
DTSTART;TZID="America/Chicago":20150312T080000
DTEND;TZID="America/Chicago":20150312T170000
DTSTAMP:20260425T010027
CREATED:20150312T015946Z
LAST-MODIFIED:20150312T024738Z
UID:539-1426147200-1426179600@qcsportsnet.com
SUMMARY:Final Four Friday! - Pleasant Valley and North Scott\, March 13
DESCRIPTION: \n  \nIt was a MAC daily double on Wednesday night\, as North Scott and Pleasant Valley advanced to the Iowa Class 4A semifinals. Our MAC programs look to make the state championship game in a doubleheader on ESPN 93.5. Mitch Widmeier and Joe Winkel will have the call of both games from Wells Fargo Arena in Des Moines. \nListen live on ESPN 93.5\, www.espn935.com\, and qcsn.co/espn935\n1:15 PM – North Scott vs. Iowa City West (tip 1:30 PM) \n3:15 PM – Pleasant Valley vs. Des Moines Hoover \n
URL:https://qcsportsnet.com/calendar/final-four-friday-pleasant-valley-and-north-scott-march-13/
CATEGORIES:Boys basketball,MAC,State playoffs
END:VEVENT
END:VCALENDAR