BEGIN:VCALENDAR
VERSION:2.0
PRODID:-//QCSportsNet - The Quad Cities Live Local Sports Leader - ECPv4.9.8//NONSGML v1.0//EN
CALSCALE:GREGORIAN
METHOD:PUBLISH
X-WR-CALNAME:QCSportsNet - The Quad Cities Live Local Sports Leader
X-ORIGINAL-URL:https://qcsportsnet.com
X-WR-CALDESC:Events for QCSportsNet - The Quad Cities Live Local Sports Leader
BEGIN:VTIMEZONE
TZID:America/Chicago
BEGIN:DAYLIGHT
TZOFFSETFROM:-0600
TZOFFSETTO:-0500
TZNAME:CDT
DTSTART:20140309T080000
END:DAYLIGHT
BEGIN:STANDARD
TZOFFSETFROM:-0500
TZOFFSETTO:-0600
TZNAME:CST
DTSTART:20141102T070000
END:STANDARD
END:VTIMEZONE
BEGIN:VEVENT
DTSTART;TZID="America/Chicago":20140919T190000
DTEND;TZID="America/Chicago":20140919T220000
DTSTAMP:20260425T010017
CREATED:20140917T172039Z
LAST-MODIFIED:20140920T043935Z
UID:217-1411153200-1411164000@qcsportsnet.com
SUMMARY:Friday Night Football Schedule - Week 4
DESCRIPTION: \nTune into ESPN Radio and QCSportsNet.com for five Quad City area high school football games this Friday night. The full game schedule is below with links to listen via the Internet. All pregame shows will start at approximately 7:10 PM. \n\nRock Island Alleman at Moline – Game can also be heard on ESPN Radio 93.5 FM\nNorth Scott at Cedar Rapids Prairie – Game can also be heard on KBOB 1170 AM\nPleasant Valley at Cedar Rapids Kennedy – Internet only on QCSportsNet1\nOrion at Spring Valley Hall – Internet only on QCSportsNet2\nBettendorf at Davenport Central – Internet only on QCSportsNet3\n\n  \n
URL:https://qcsportsnet.com/calendar/friday-night-football-schedule-week-4/
CATEGORIES:Football,MAC,Western Big 6
END:VEVENT
END:VCALENDAR