BEGIN:VCALENDAR
VERSION:2.0
PRODID:-//QCSportsNet - The Quad Cities Live Local Sports Leader - ECPv4.9.8//NONSGML v1.0//EN
CALSCALE:GREGORIAN
METHOD:PUBLISH
X-WR-CALNAME:QCSportsNet - The Quad Cities Live Local Sports Leader
X-ORIGINAL-URL:https://qcsportsnet.com
X-WR-CALDESC:Events for QCSportsNet - The Quad Cities Live Local Sports Leader
BEGIN:VTIMEZONE
TZID:America/Chicago
BEGIN:DAYLIGHT
TZOFFSETFROM:-0600
TZOFFSETTO:-0500
TZNAME:CDT
DTSTART:20190310T080000
END:DAYLIGHT
BEGIN:STANDARD
TZOFFSETFROM:-0500
TZOFFSETTO:-0600
TZNAME:CST
DTSTART:20191103T070000
END:STANDARD
END:VTIMEZONE
BEGIN:VEVENT
DTSTART;TZID="America/Chicago":20190222T184500
DTEND;TZID="America/Chicago":20190222T213000
DTSTAMP:20260425T010146
CREATED:20190218T022314Z
LAST-MODIFIED:20190218T022314Z
UID:1848-1550861100-1550871000@qcsportsnet.com
SUMMARY:High School Basketball - Friday\, February 22nd
DESCRIPTION: \nClick here to listen to live Bettendorf broadcasts\n\nFriday\, February 22nd – Bettendorf boys vs Davenport North/Iowa City Liberty winner (Iowa Class 4A semifinal)\, 6:45 PM pregame/7:00 PM tipoff\n\n \nClick here to listen to live Pleasant Valley broadcasts\n\n(IF NECESSARY) Friday\, February 22nd – Pleasant Valley boys at North Scott (Iowa Class 4A substate semifinal)\, 6:45 PM pregame/7:00 PM tipoff\n\n \nClick here to listen to live United Township broadcasts\n\nFriday\, February 22nd – United Township boys at Rock Island\, 7:15 PM pregame/7:30 PM tipoff\n\n \nClick here to listen to live Rock Island broadcasts\n\nFriday\, February 22nd – Rock Island boys vs United Township\, 7:15 PM pregame/7:30 PM tipoff\n\n
URL:https://qcsportsnet.com/calendar/high-school-basketball-friday-february-22nd/
CATEGORIES:Bettendorf,Boys basketball,MAC,North Scott,Pleasant Valley,Rock Island,State playoffs,United Township,Western Big 6
ATTACH;FMTTYPE=image/jpeg:https://qcsportsnet.com/wp-content/uploads/2018/01/QCSportsNet_02_300dpi.jpg
END:VEVENT
END:VCALENDAR