BEGIN:VCALENDAR
VERSION:2.0
PRODID:-//QCSportsNet - The Quad Cities Live Local Sports Leader - ECPv4.9.8//NONSGML v1.0//EN
CALSCALE:GREGORIAN
METHOD:PUBLISH
X-WR-CALNAME:QCSportsNet - The Quad Cities Live Local Sports Leader
X-ORIGINAL-URL:https://qcsportsnet.com
X-WR-CALDESC:Events for QCSportsNet - The Quad Cities Live Local Sports Leader
BEGIN:VTIMEZONE
TZID:America/Chicago
BEGIN:DAYLIGHT
TZOFFSETFROM:-0600
TZOFFSETTO:-0500
TZNAME:CDT
DTSTART:20190310T080000
END:DAYLIGHT
BEGIN:STANDARD
TZOFFSETFROM:-0500
TZOFFSETTO:-0600
TZNAME:CST
DTSTART:20191103T070000
END:STANDARD
END:VTIMEZONE
BEGIN:VEVENT
DTSTART;TZID="America/Chicago":20190111T191500
DTEND;TZID="America/Chicago":20190111T213000
DTSTAMP:20260425T023603
CREATED:20190111T020525Z
LAST-MODIFIED:20190111T210430Z
UID:1664-1547234100-1547242200@qcsportsnet.com
SUMMARY:High School Basketball - Friday\, January 11th
DESCRIPTION: \nClick here to listen to live United Township broadcasts\n\nFriday\, January 11th – United Township boys vs Quincy\, 7:15 PM pregame/7:30 PM tipoff (POSTPONED BECAUSE OF WEATHER)\n\n \nClick here to listen to live Rock Island broadcasts\n\nFriday\, January 11th – Rock Island boys vs Alleman 7:15 PM pregame / 7:30 PM tipoff\n\n \nClick here to listen to live Pleasant Valley broadcasts\n\nFriday\, January 11th – Pleasant Valley boys vs Muscatine\, 7:15 pregame/7:30 PM tipoff\n\n \nClick here to listen to live Moline broadcasts\n\nFriday\, January 11th – Moline boys vs Galesburg\, 7:15 PM pregame / 7:30 PM tipoff\n\n
URL:https://qcsportsnet.com/calendar/high-school-basketball-friday-january-11th/
CATEGORIES:Boys basketball,MAC,Moline,Pleasant Valley,Rock Island,United Township,Western Big 6
END:VEVENT
END:VCALENDAR