BEGIN:VCALENDAR
VERSION:2.0
PRODID:-//QCSportsNet - The Quad Cities Live Local Sports Leader - ECPv4.9.8//NONSGML v1.0//EN
CALSCALE:GREGORIAN
METHOD:PUBLISH
X-WR-CALNAME:QCSportsNet - The Quad Cities Live Local Sports Leader
X-ORIGINAL-URL:https://qcsportsnet.com
X-WR-CALDESC:Events for QCSportsNet - The Quad Cities Live Local Sports Leader
BEGIN:VTIMEZONE
TZID:America/Chicago
BEGIN:DAYLIGHT
TZOFFSETFROM:-0600
TZOFFSETTO:-0500
TZNAME:CDT
DTSTART:20180311T080000
END:DAYLIGHT
BEGIN:STANDARD
TZOFFSETFROM:-0500
TZOFFSETTO:-0600
TZNAME:CST
DTSTART:20181104T070000
END:STANDARD
END:VTIMEZONE
BEGIN:VEVENT
DTSTART;TZID="America/Chicago":20181130T191500
DTEND;TZID="America/Chicago":20181130T213000
DTSTAMP:20260425T023603
CREATED:20181129T121618Z
LAST-MODIFIED:20181129T122027Z
UID:1557-1543605300-1543613400@qcsportsnet.com
SUMMARY:High School Basketball - Friday\, November 30th
DESCRIPTION:  \n \nClick here to listen to live Moline broadcasts\n\nFriday\, November 30th – Moline boys at Quincy\, 7:15 PM pregame/7:30 PM tipoff\n\n  \n \nClick here to listen to live Pleasant Valley broadcasts\n\nFriday\, November 30th – Pleasant Valley girls vs Muscatine\, 7:15 PM pregame/7:30 PM tipoff\n\n \nClick here to listen to live Rock Island broadcasts\n\nFriday\, November 30th – Rock Island boys at Galesburg\, 7:15 PM pregame/7:30 PM tipoff\n\n \nClick here to listen to live United Township broadcasts\n\nFriday\, November 30th – United Township boys vs Rock Island Alleman\, 7:15 PM pregame/7:30 PM tipoff\n\n
URL:https://qcsportsnet.com/calendar/high-school-basketball-friday-november-30th/
CATEGORIES:Boys basketball,Girls Basketball,MAC,Western Big 6
ATTACH;FMTTYPE=image/jpeg:https://qcsportsnet.com/wp-content/uploads/2015/12/QC_black_300dpi.jpg
END:VEVENT
END:VCALENDAR