BEGIN:VCALENDAR
VERSION:2.0
PRODID:-//QCSportsNet - The Quad Cities Live Local Sports Leader - ECPv4.9.8//NONSGML v1.0//EN
CALSCALE:GREGORIAN
METHOD:PUBLISH
X-WR-CALNAME:QCSportsNet - The Quad Cities Live Local Sports Leader
X-ORIGINAL-URL:https://qcsportsnet.com
X-WR-CALDESC:Events for QCSportsNet - The Quad Cities Live Local Sports Leader
BEGIN:VTIMEZONE
TZID:America/Chicago
BEGIN:DAYLIGHT
TZOFFSETFROM:-0600
TZOFFSETTO:-0500
TZNAME:CDT
DTSTART:20190310T080000
END:DAYLIGHT
BEGIN:STANDARD
TZOFFSETFROM:-0500
TZOFFSETTO:-0600
TZNAME:CST
DTSTART:20191103T070000
END:STANDARD
END:VTIMEZONE
BEGIN:VEVENT
DTSTART;TZID="America/Chicago":20190211T164500
DTEND;TZID="America/Chicago":20190211T213000
DTSTAMP:20260424T215217
CREATED:20190211T121228Z
LAST-MODIFIED:20190211T214356Z
UID:1800-1549903500-1549920600@qcsportsnet.com
SUMMARY:High School Basketball - Monday\, February 11th
DESCRIPTION: \nClick here to listen to live Bettendorf broadcasts\n\nMonday\, February 11th – Bettendorf boys vs North Scott\, 4:45 PM pregame/5:00 PM tipoff\n\n \nClick here to listen to live United Township broadcasts\n\n(POSTPONED – MAKEUP TBD) Monday\, February 11th – United Township girls vs Pekin (Regional at Rock Island)\, 6:45 PM pregame/7:00 PM tipoff (Game will be on QCSportsNet Extra)\n(POSTPONED UNTIL FEBRUARY 19TH) Monday\, February 11th – United Township boys vs Quincy\, 6:15 PM pregame/6:30 PM tipoff\n\n
URL:https://qcsportsnet.com/calendar/high-school-basketball-monday-february-11th/
CATEGORIES:Bettendorf,Boys basketball,Girls Basketball,MAC,North Scott,State playoffs,United Township,Western Big 6
ATTACH;FMTTYPE=image/jpeg:https://qcsportsnet.com/wp-content/uploads/2018/01/QCSportsNet_02_300dpi.jpg
END:VEVENT
END:VCALENDAR