BEGIN:VCALENDAR
VERSION:2.0
PRODID:-//QCSportsNet - The Quad Cities Live Local Sports Leader - ECPv4.9.8//NONSGML v1.0//EN
CALSCALE:GREGORIAN
METHOD:PUBLISH
X-WR-CALNAME:QCSportsNet - The Quad Cities Live Local Sports Leader
X-ORIGINAL-URL:https://qcsportsnet.com
X-WR-CALDESC:Events for QCSportsNet - The Quad Cities Live Local Sports Leader
BEGIN:VTIMEZONE
TZID:America/Chicago
BEGIN:DAYLIGHT
TZOFFSETFROM:-0600
TZOFFSETTO:-0500
TZNAME:CDT
DTSTART:20190310T080000
END:DAYLIGHT
BEGIN:STANDARD
TZOFFSETFROM:-0500
TZOFFSETTO:-0600
TZNAME:CST
DTSTART:20191103T070000
END:STANDARD
END:VTIMEZONE
BEGIN:VEVENT
DTSTART;TZID="America/Chicago":20190212T174500
DTEND;TZID="America/Chicago":20190212T213000
DTSTAMP:20260424T233147
CREATED:20190211T122210Z
LAST-MODIFIED:20190212T213225Z
UID:1802-1549993500-1550007000@qcsportsnet.com
SUMMARY:High School Basketball - Tuesday\, February 12th
DESCRIPTION: \nClick here to listen to live Bettendorf broadcasts\n\nTuesday\, February 12th – Bettendorf boys vs Davenport North\, 5:45 PM pregame/6:00 PM tipoff\n\n \nClick here to listen to live Moline broadcasts\n\nTuesday\, February 12th – Moline girls vs Peoria High (Rock Island Regional)\, 7:15 PM pregame/7:30 PM tipoff\n\n \nClick here to listen to live Pleasant Valley broadcasts\n\nTuesday\, February 12th – Pleasant Valley boys vs Davenport Central\, 4:45 PM pregame/5:00 PM tipoff\n\n \nClick here to listen to live Rock Island broadcasts\n\nTuesday\, February 12th – Rock Island girls vs United Township/Pekin winner (Rock Island regional)\, 5:45 PM pregame/6:00 PM tipoff (GAME MOVED TO WEDNESDAY\, FEBRUARY 13TH)\n\n \nClick here to listen to live United Township broadcasts\n\nTuesday\, February 12th – United Township boys vs Sherrard\, 6:45 PM pregame/7:00 PM tipoff\nTuesday\, February 12th – United Township girls vs Rock Island (Rock Island regional)\, 5:45 PM pregame/6:00 PM tipoff (Game will be on the QCSportsNet Extra Channel)\n\n
URL:https://qcsportsnet.com/calendar/high-school-basketball-tuesday-february-12th/
CATEGORIES:Bettendorf,Boys basketball,Girls Basketball,MAC,Moline,Pleasant Valley,Rock Island,State playoffs,United Township,Western Big 6
ATTACH;FMTTYPE=image/jpeg:https://qcsportsnet.com/wp-content/uploads/2018/01/QCSportsNet_02_300dpi.jpg
END:VEVENT
END:VCALENDAR