BEGIN:VCALENDAR
VERSION:2.0
PRODID:-//QCSportsNet - The Quad Cities Live Local Sports Leader - ECPv4.9.8//NONSGML v1.0//EN
CALSCALE:GREGORIAN
METHOD:PUBLISH
X-WR-CALNAME:QCSportsNet - The Quad Cities Live Local Sports Leader
X-ORIGINAL-URL:https://qcsportsnet.com
X-WR-CALDESC:Events for QCSportsNet - The Quad Cities Live Local Sports Leader
BEGIN:VTIMEZONE
TZID:America/Chicago
BEGIN:DAYLIGHT
TZOFFSETFROM:-0600
TZOFFSETTO:-0500
TZNAME:CDT
DTSTART:20190310T080000
END:DAYLIGHT
BEGIN:STANDARD
TZOFFSETFROM:-0500
TZOFFSETTO:-0600
TZNAME:CST
DTSTART:20191103T070000
END:STANDARD
END:VTIMEZONE
BEGIN:VEVENT
DTSTART;TZID="America/Chicago":20190123T174500
DTEND;TZID="America/Chicago":20190123T213000
DTSTAMP:20260425T010045
CREATED:20190122T113515Z
LAST-MODIFIED:20190123T190716Z
UID:1712-1548265500-1548279000@qcsportsnet.com
SUMMARY:MAC Boys Basketball - WEDNESDAY\, JANUARY 23RD (GAMES POSTPONED!)
DESCRIPTION: \nClick here to listen to live Bettendorf broadcasts \n\nWednesday\, January 23rd – Bettendorf boys at Davenport West\, 7:15 PM pregame/7:30 PM tipoff (POSTPONED TO THURSDAY\, JANUARY 24TH)\n\n \nClick here to listen to live Pleasant Valley broadcasts \n\nWednesday\, January 23rd – Pleasant Valley boys Burlington\, 5:45 PM pregame/6:00 PM tipoff (POSTPONED TO THURSDAY\, FEBRUARY 7TH AT 6 PM)\n\n  \n
URL:https://qcsportsnet.com/calendar/mac-boys-basketball-tuesday-january-22nd/
CATEGORIES:Boys basketball,MAC
ATTACH;FMTTYPE=image/jpeg:https://qcsportsnet.com/wp-content/uploads/2019/01/MAC-Logos.jpg
END:VEVENT
END:VCALENDAR