BEGIN:VCALENDAR
VERSION:2.0
PRODID:-//QCSportsNet - The Quad Cities Live Local Sports Leader - ECPv4.9.8//NONSGML v1.0//EN
CALSCALE:GREGORIAN
METHOD:PUBLISH
X-WR-CALNAME:QCSportsNet - The Quad Cities Live Local Sports Leader
X-ORIGINAL-URL:https://qcsportsnet.com
X-WR-CALDESC:Events for QCSportsNet - The Quad Cities Live Local Sports Leader
BEGIN:VTIMEZONE
TZID:America/Chicago
BEGIN:DAYLIGHT
TZOFFSETFROM:-0600
TZOFFSETTO:-0500
TZNAME:CDT
DTSTART:20180311T080000
END:DAYLIGHT
BEGIN:STANDARD
TZOFFSETFROM:-0500
TZOFFSETTO:-0600
TZNAME:CST
DTSTART:20181104T070000
END:STANDARD
END:VTIMEZONE
BEGIN:VEVENT
DTSTART;TZID="America/Chicago":20181204T071500
DTEND;TZID="America/Chicago":20181204T213000
DTSTAMP:20260425T010213
CREATED:20181204T033528Z
LAST-MODIFIED:20181204T034157Z
UID:1567-1543907700-1543959000@qcsportsnet.com
SUMMARY:Mississippi Athletic Conference basketball - Tuesday\, December 4th
DESCRIPTION: \nPlease note that the Pleasant Valley-Davenport Assumption girls game is on our QCSportsNet Extra channel. \n  \n \nClick here to listen to live Bettendorf broadcasts\n\nTuesday\, December 4th – Bettendorf boys at Clinton\, 7:15 PM pregame/7:30 PM tipoff\n\n  \n  \n \nClick here to listen to live Pleasant Valley broadcasts\n\nTuesday\, December 4th – Pleasant Valley girls at Davenport Assumption\, 7:15 PM pregame/7:30 PM tipoff (game is on our QCSportsNet Extra Channel)\nTuesday\, December 4th – Pleasant Valley boys vs Davenport Assumption\, 7:15 PM pregame/7:30 PM tipoff\n\n
URL:https://qcsportsnet.com/calendar/mississippi-athletic-conference-basketball-tuesday-december-4th/
CATEGORIES:Bettendorf,Boys basketball,Girls Basketball,MAC,Pleasant Valley
ATTACH;FMTTYPE=image/jpeg:https://qcsportsnet.com/wp-content/uploads/2014/08/QC_blue_300dpi.jpg
END:VEVENT
END:VCALENDAR