BEGIN:VCALENDAR
VERSION:2.0
PRODID:-//QCSportsNet - The Quad Cities Live Local Sports Leader - ECPv4.9.8//NONSGML v1.0//EN
CALSCALE:GREGORIAN
METHOD:PUBLISH
X-WR-CALNAME:QCSportsNet - The Quad Cities Live Local Sports Leader
X-ORIGINAL-URL:https://qcsportsnet.com
X-WR-CALDESC:Events for QCSportsNet - The Quad Cities Live Local Sports Leader
BEGIN:VTIMEZONE
TZID:America/Chicago
BEGIN:DAYLIGHT
TZOFFSETFROM:-0600
TZOFFSETTO:-0500
TZNAME:CDT
DTSTART:20140309T080000
END:DAYLIGHT
BEGIN:STANDARD
TZOFFSETFROM:-0500
TZOFFSETTO:-0600
TZNAME:CST
DTSTART:20141102T070000
END:STANDARD
END:VTIMEZONE
BEGIN:VEVENT
DTSTART;TZID="America/Chicago":20141206T061500
DTEND;TZID="America/Chicago":20141206T203000
DTSTAMP:20260425T010119
CREATED:20141205T032026Z
LAST-MODIFIED:20141205T033157Z
UID:388-1417846500-1417897800@qcsportsnet.com
SUMMARY:Moline at Ottawa - December 6th at 6:20 PM on ESPN 93.5
DESCRIPTION: \n  \nThe Moline Maroons travel to Ottawa to take on the Ottawa Pirates this Saturday on ESPN Radio’s coverage of Quad City basketball. Steve Campbell will have the call beginning at 6:20 PM on ESPN 93.5 FM\, www.espn935.com\, and qcsn.co/espn935. \nESPN Radio and QCSportsNet are your homes for Quad City basketball all winter long! \n
URL:https://qcsportsnet.com/calendar/moline-at-ottawa-december-6th-at-620-pm-on-espn-93-5/
CATEGORIES:Boys basketball,Western Big 6
END:VEVENT
END:VCALENDAR