BEGIN:VCALENDAR
VERSION:2.0
PRODID:-//QCSportsNet - The Quad Cities Live Local Sports Leader - ECPv4.9.8//NONSGML v1.0//EN
CALSCALE:GREGORIAN
METHOD:PUBLISH
X-WR-CALNAME:QCSportsNet - The Quad Cities Live Local Sports Leader
X-ORIGINAL-URL:https://qcsportsnet.com
X-WR-CALDESC:Events for QCSportsNet - The Quad Cities Live Local Sports Leader
BEGIN:VTIMEZONE
TZID:America/Chicago
BEGIN:DAYLIGHT
TZOFFSETFROM:-0600
TZOFFSETTO:-0500
TZNAME:CDT
DTSTART:20150308T080000
END:DAYLIGHT
BEGIN:STANDARD
TZOFFSETFROM:-0500
TZOFFSETTO:-0600
TZNAME:CST
DTSTART:20151101T070000
END:STANDARD
END:VTIMEZONE
BEGIN:VEVENT
DTSTART;TZID="America/Chicago":20150311T023000
DTEND;TZID="America/Chicago":20150311T200000
DTSTAMP:20260425T010226
CREATED:20150306T022631Z
LAST-MODIFIED:20150308T012255Z
UID:532-1426041000-1426104000@qcsportsnet.com
SUMMARY:North Scott and Pleasant Valley Iowa state tournament - March 11th
DESCRIPTION: \n  \nTwo Mississippi Athletic conference teams make the trip west to Des Moines for the Iowa Class 4A state tournament\, and ESPN Radio will be there for every minute of North Scott and Pleasant Valley action. Follow the Lancers and Spartans on Wednesday\, March 11 for the quarterfinals from Wells Fargo Arena in Des Moines. \nGame schedule for Wednesday\, March 11th – all games on ESPN 93.5 FM\, www.espn935.com\, and qcsn.co/espn935\n\nNorth Scott vs. Waukee – Pregame at 2:30 PM\, tipoff at 2:45 PM. Play by play – Marco LaNave Analyst – Joe Winkel\nPleasant Valley vs. Cedar Rapids Kennedy – Pregame at 6:20 PM\, tipoff at 6:35 PM Play by play – Joe Winkel Analyst – Marco LaNave\n\n
URL:https://qcsportsnet.com/calendar/north-scott-and-pleasant-valley-iowa-state-tournament-march-11th/
CATEGORIES:Boys basketball,MAC,State playoffs
END:VEVENT
END:VCALENDAR