BEGIN:VCALENDAR
VERSION:2.0
PRODID:-//QCSportsNet - The Quad Cities Live Local Sports Leader - ECPv4.9.8//NONSGML v1.0//EN
CALSCALE:GREGORIAN
METHOD:PUBLISH
X-WR-CALNAME:QCSportsNet - The Quad Cities Live Local Sports Leader
X-ORIGINAL-URL:https://qcsportsnet.com
X-WR-CALDESC:Events for QCSportsNet - The Quad Cities Live Local Sports Leader
BEGIN:VTIMEZONE
TZID:America/Chicago
BEGIN:DAYLIGHT
TZOFFSETFROM:-0600
TZOFFSETTO:-0500
TZNAME:CDT
DTSTART:20180311T080000
END:DAYLIGHT
BEGIN:STANDARD
TZOFFSETFROM:-0500
TZOFFSETTO:-0600
TZNAME:CST
DTSTART:20181104T070000
END:STANDARD
END:VTIMEZONE
BEGIN:VEVENT
DTSTART;VALUE=DATE:20180130
DTEND;VALUE=DATE:20180131
DTSTAMP:20260425T023753
CREATED:20180129T122231Z
LAST-MODIFIED:20180130T120408Z
UID:1306-1517270400-1517356799@qcsportsnet.com
SUMMARY:Pleasant Valley boys at Davenport West - Tuesday\, January 30th
DESCRIPTION:Click here to listen live to Pleasant Valley Spartans broadcasts\n\nTuesday\, January 30th – Pleasant Valley boys at Davenport West\, pregame 7:10 PM/tipoff 7:30 PM\n\n \n
URL:https://qcsportsnet.com/calendar/pleasant-valley-boys-at-davenport-west-tuesday-january-29th/
CATEGORIES:Boys basketball,MAC,Pleasant Valley
ATTACH;FMTTYPE=image/jpeg:https://qcsportsnet.com/wp-content/uploads/2014/11/Pleasant-Valley.jpeg
END:VEVENT
END:VCALENDAR