BEGIN:VCALENDAR
VERSION:2.0
PRODID:-//QCSportsNet - The Quad Cities Live Local Sports Leader - ECPv4.9.8//NONSGML v1.0//EN
CALSCALE:GREGORIAN
METHOD:PUBLISH
X-WR-CALNAME:QCSportsNet - The Quad Cities Live Local Sports Leader
X-ORIGINAL-URL:https://qcsportsnet.com
X-WR-CALDESC:Events for QCSportsNet - The Quad Cities Live Local Sports Leader
BEGIN:VTIMEZONE
TZID:America/New_York
BEGIN:DAYLIGHT
TZOFFSETFROM:-0500
TZOFFSETTO:-0400
TZNAME:EDT
DTSTART:20170312T070000
END:DAYLIGHT
BEGIN:STANDARD
TZOFFSETFROM:-0400
TZOFFSETTO:-0500
TZNAME:EST
DTSTART:20171105T060000
END:STANDARD
END:VTIMEZONE
BEGIN:VEVENT
DTSTART;VALUE=DATE:20171212
DTEND;VALUE=DATE:20171213
DTSTAMP:20260425T023856
CREATED:20171211T131305Z
LAST-MODIFIED:20171211T131305Z
UID:1135-1513036800-1513123199@qcsportsnet.com
SUMMARY:Pleasant Valley vs North Scott - Boys and Girls basketball Tuesday December 12th
DESCRIPTION: \nClick on the teams for each game below to take you to the correct station for your game on December 12th\nPleasant Valley boys at North Scott – pregame 7:10 PM/tipoff 7:30 PM\nPleasant Valley girls vs North Scott – pregame 7:10 PM/tipoff 7:30 PM\n
URL:https://qcsportsnet.com/calendar/pleasant-valley-vs-north-scott-boys-and-girls-basketball-tuesday-december-12th/
CATEGORIES:Boys basketball,Girls Basketball,MAC
ATTACH;FMTTYPE=image/jpeg:https://qcsportsnet.com/wp-content/uploads/2014/11/Pleasant-Valley.jpeg
END:VEVENT
END:VCALENDAR