BEGIN:VCALENDAR
VERSION:2.0
PRODID:-//QCSportsNet - The Quad Cities Live Local Sports Leader - ECPv4.9.8//NONSGML v1.0//EN
CALSCALE:GREGORIAN
METHOD:PUBLISH
X-WR-CALNAME:QCSportsNet - The Quad Cities Live Local Sports Leader
X-ORIGINAL-URL:https://qcsportsnet.com
X-WR-CALDESC:Events for QCSportsNet - The Quad Cities Live Local Sports Leader
BEGIN:VTIMEZONE
TZID:America/Chicago
BEGIN:DAYLIGHT
TZOFFSETFROM:-0600
TZOFFSETTO:-0500
TZNAME:CDT
DTSTART:20150308T080000
END:DAYLIGHT
BEGIN:STANDARD
TZOFFSETFROM:-0500
TZOFFSETTO:-0600
TZNAME:CST
DTSTART:20151101T070000
END:STANDARD
END:VTIMEZONE
BEGIN:VEVENT
DTSTART;TZID="America/Chicago":20151205T142000
DTEND;TZID="America/Chicago":20151205T170000
DTSTAMP:20260425T023418
CREATED:20151118T021302Z
LAST-MODIFIED:20151118T021321Z
UID:598-1449325200-1449334800@qcsportsnet.com
SUMMARY:Pleasant Valley vs. Fort Madison - Saturday\, December 5th
DESCRIPTION: \nClick here to listen live via Network1Sports – Click on the “Listen/Watch Live” link to listen live on your computer\, tablet\, or smartphone!\nOpponent – Fort Madison Bloodhounds \nLocation – Pleasant Valley High School \nAir time – 2:20 PM \nAnnouncer – Dallon Christensen \n
URL:https://qcsportsnet.com/calendar/pv20151205/
LOCATION:Pleasant Valley High School\, 604 Belmont Road\, Bettendorf\, IA\, 52722\, United States
CATEGORIES:Boys basketball,MAC,Pleasant Valley
END:VEVENT
END:VCALENDAR