BEGIN:VCALENDAR
VERSION:2.0
PRODID:-//QCSportsNet - The Quad Cities Live Local Sports Leader - ECPv4.9.8//NONSGML v1.0//EN
CALSCALE:GREGORIAN
METHOD:PUBLISH
X-WR-CALNAME:QCSportsNet - The Quad Cities Live Local Sports Leader
X-ORIGINAL-URL:https://qcsportsnet.com
X-WR-CALDESC:Events for QCSportsNet - The Quad Cities Live Local Sports Leader
BEGIN:VTIMEZONE
TZID:America/Chicago
BEGIN:DAYLIGHT
TZOFFSETFROM:-0600
TZOFFSETTO:-0500
TZNAME:CDT
DTSTART:20150308T080000
END:DAYLIGHT
BEGIN:STANDARD
TZOFFSETFROM:-0500
TZOFFSETTO:-0600
TZNAME:CST
DTSTART:20151101T070000
END:STANDARD
END:VTIMEZONE
BEGIN:VEVENT
DTSTART;TZID="America/Chicago":20151208T072000
DTEND;TZID="America/Chicago":20151208T213000
DTSTAMP:20260425T005709
CREATED:20151207T020359Z
LAST-MODIFIED:20151207T020725Z
UID:631-1449559200-1449610200@qcsportsnet.com
SUMMARY:Pleasant Valley at Cedar Rapids Jefferson - Tuesday\, December 8th 2015
DESCRIPTION:\nClick here to listen live via Network1Sports – Click on the “Listen/Watch Live” link to listen live on your computer\, tablet\, or smartphone!\nOpponent – Cedar Rapids Jefferson J-Hawks \nLocation – Cedar Rapids Jefferson High School \nAir time – 7:20 PM \nAnnouncer – TBD \n
URL:https://qcsportsnet.com/calendar/pv20151208/
CATEGORIES:Boys basketball,MAC,Pleasant Valley
END:VEVENT
END:VCALENDAR