BEGIN:VCALENDAR
VERSION:2.0
PRODID:-//QCSportsNet - The Quad Cities Live Local Sports Leader - ECPv4.9.8//NONSGML v1.0//EN
CALSCALE:GREGORIAN
METHOD:PUBLISH
X-WR-CALNAME:QCSportsNet - The Quad Cities Live Local Sports Leader
X-ORIGINAL-URL:https://qcsportsnet.com
X-WR-CALDESC:Events for QCSportsNet - The Quad Cities Live Local Sports Leader
BEGIN:VTIMEZONE
TZID:America/New_York
BEGIN:DAYLIGHT
TZOFFSETFROM:-0500
TZOFFSETTO:-0400
TZNAME:EDT
DTSTART:20150308T070000
END:DAYLIGHT
BEGIN:STANDARD
TZOFFSETFROM:-0400
TZOFFSETTO:-0500
TZNAME:EST
DTSTART:20151101T060000
END:STANDARD
END:VTIMEZONE
BEGIN:VEVENT
DTSTART;TZID="America/New_York":20151215T192000
DTEND;TZID="America/New_York":20151215T214500
DTSTAMP:20260425T005723
CREATED:20151210T031818Z
LAST-MODIFIED:20151210T032804Z
UID:644-1450207200-1450215900@qcsportsnet.com
SUMMARY:Pleasant Valley at Clinton - Tuesday\, December 15 2015
DESCRIPTION:\nClick here to listen live via Network1Sports – Click on the “Listen/Watch Live” link to listen live on your computer\, tablet\, or smartphone!\nOpponent – Clinton River Kings \nLocation – Yourd Gymnasium\, Clinton High School \nAir time – 7:20 PM \nAnnouncer – Joe Winkel \n
URL:https://qcsportsnet.com/calendar/pv20151215/
CATEGORIES:Boys basketball,MAC,Pleasant Valley
END:VEVENT
END:VCALENDAR