BEGIN:VCALENDAR
VERSION:2.0
PRODID:-//QCSportsNet - The Quad Cities Live Local Sports Leader - ECPv4.9.8//NONSGML v1.0//EN
CALSCALE:GREGORIAN
METHOD:PUBLISH
X-WR-CALNAME:QCSportsNet - The Quad Cities Live Local Sports Leader
X-ORIGINAL-URL:https://qcsportsnet.com
X-WR-CALDESC:Events for QCSportsNet - The Quad Cities Live Local Sports Leader
BEGIN:VTIMEZONE
TZID:America/New_York
BEGIN:DAYLIGHT
TZOFFSETFROM:-0500
TZOFFSETTO:-0400
TZNAME:EDT
DTSTART:20150308T070000
END:DAYLIGHT
BEGIN:STANDARD
TZOFFSETFROM:-0400
TZOFFSETTO:-0500
TZNAME:EST
DTSTART:20151101T060000
END:STANDARD
END:VTIMEZONE
BEGIN:VEVENT
DTSTART;TZID="America/New_York":20151218T174500
DTEND;TZID="America/New_York":20151218T220000
DTSTAMP:20260425T005718
CREATED:20151210T032128Z
LAST-MODIFIED:20151210T032837Z
UID:645-1450460700-1450476000@qcsportsnet.com
SUMMARY:Pleasant Valley vs. Bettendorf - December 18 2015 (Varsity Doubleheader)
DESCRIPTION:\nClick here to listen live via Network1Sports – Click on the “Listen/Watch Live” link to listen live on your computer\, tablet\, or smartphone!\nPlease note this is a varsity girls/boys doubleheader. QCSportsNet will air both games with the broadcast starting at 5:45 PM \nOpponent – Bettendorf Bulldogs \nLocation – Pleasant Valley High School \nAir time – 5:45 PM (Girls) 7:30 PM (Boys) \nAnnouncers – Dallon Christensen (PBP girls game\, analyst boys game)\, Bill Horrell (PBP boys game) \n
URL:https://qcsportsnet.com/calendar/pv20151218-2/
CATEGORIES:Boys basketball,Girls Basketball,MAC,Pleasant Valley
END:VEVENT
END:VCALENDAR