BEGIN:VCALENDAR
VERSION:2.0
PRODID:-//QCSportsNet - The Quad Cities Live Local Sports Leader - ECPv4.9.8//NONSGML v1.0//EN
CALSCALE:GREGORIAN
METHOD:PUBLISH
X-WR-CALNAME:QCSportsNet - The Quad Cities Live Local Sports Leader
X-ORIGINAL-URL:https://qcsportsnet.com
X-WR-CALDESC:Events for QCSportsNet - The Quad Cities Live Local Sports Leader
BEGIN:VTIMEZONE
TZID:America/Chicago
BEGIN:DAYLIGHT
TZOFFSETFROM:-0600
TZOFFSETTO:-0500
TZNAME:CDT
DTSTART:20150308T080000
END:DAYLIGHT
BEGIN:STANDARD
TZOFFSETFROM:-0500
TZOFFSETTO:-0600
TZNAME:CST
DTSTART:20151101T070000
END:STANDARD
END:VTIMEZONE
BEGIN:VEVENT
DTSTART;TZID="America/Chicago":20151118T080000
DTEND;TZID="America/Chicago":20151118T170000
DTSTAMP:20260425T023418
CREATED:20151118T025028Z
LAST-MODIFIED:20151118T025042Z
UID:605-1447833600-1447866000@qcsportsnet.com
SUMMARY:Pleasant Valley vs. Bettendorf (Varsity doubleheader) - Friday\, December 18th
DESCRIPTION: \nClick here to listen live via Network1Sports – Click on the “Listen/Watch Live” link to listen live on your computer\, tablet\, or smartphone!\nOpponent – Bettendorf Bulldogs \nLocation – Pleasant Valley High School \nAir time – 5:45 PM (girls game tip-off 6 PM\, boys game tip-off approximately 7:45 PM) \nAnnouncers  \nDallon Christensen (play by play girls game\, analysis boys game) \nBill Horrell (play by play boys game) \n
URL:https://qcsportsnet.com/calendar/pv20151218/
CATEGORIES:Boys basketball,Girls Basketball,MAC,Pleasant Valley
END:VEVENT
END:VCALENDAR