BEGIN:VCALENDAR
VERSION:2.0
PRODID:-//QCSportsNet - The Quad Cities Live Local Sports Leader - ECPv4.9.8//NONSGML v1.0//EN
CALSCALE:GREGORIAN
METHOD:PUBLISH
X-WR-CALNAME:QCSportsNet - The Quad Cities Live Local Sports Leader
X-ORIGINAL-URL:https://qcsportsnet.com
X-WR-CALDESC:Events for QCSportsNet - The Quad Cities Live Local Sports Leader
BEGIN:VTIMEZONE
TZID:America/New_York
BEGIN:DAYLIGHT
TZOFFSETFROM:-0500
TZOFFSETTO:-0400
TZNAME:EDT
DTSTART:20160313T070000
END:DAYLIGHT
BEGIN:STANDARD
TZOFFSETFROM:-0400
TZOFFSETTO:-0500
TZNAME:EST
DTSTART:20161106T060000
END:STANDARD
END:VTIMEZONE
BEGIN:VEVENT
DTSTART;TZID="America/New_York":20160126T191500
DTEND;TZID="America/New_York":20160126T213000
DTSTAMP:20260425T005707
CREATED:20160126T132053Z
LAST-MODIFIED:20160126T132340Z
UID:739-1453835700-1453843800@qcsportsnet.com
SUMMARY:Pleasant Valley at Davenport Assumption - January 26 2016
DESCRIPTION:\nClick here to listen live via Network1Sports – Click on the “Listen/Watch Live” link to listen live on your computer\, tablet\, or smartphone!\nOpponent – Davenport Assumption \nLocation – Davenport Assumption High School \nAir time – 7:15 PM \nAnnouncer – Joe Winkel \n
URL:https://qcsportsnet.com/calendar/pv20160126/
CATEGORIES:Boys basketball,MAC
ATTACH;FMTTYPE=image/jpeg:https://qcsportsnet.com/wp-content/uploads/2015/12/QC_black_300dpi.jpg
END:VEVENT
END:VCALENDAR