BEGIN:VCALENDAR
VERSION:2.0
PRODID:-//QCSportsNet - The Quad Cities Live Local Sports Leader - ECPv4.9.8//NONSGML v1.0//EN
CALSCALE:GREGORIAN
METHOD:PUBLISH
X-WR-CALNAME:QCSportsNet - The Quad Cities Live Local Sports Leader
X-ORIGINAL-URL:https://qcsportsnet.com
X-WR-CALDESC:Events for QCSportsNet - The Quad Cities Live Local Sports Leader
BEGIN:VTIMEZONE
TZID:America/Chicago
BEGIN:DAYLIGHT
TZOFFSETFROM:-0600
TZOFFSETTO:-0500
TZNAME:CDT
DTSTART:20140309T080000
END:DAYLIGHT
BEGIN:STANDARD
TZOFFSETFROM:-0500
TZOFFSETTO:-0600
TZNAME:CST
DTSTART:20141102T070000
END:STANDARD
END:VTIMEZONE
BEGIN:VEVENT
DTSTART;TZID="America/Chicago":20140905T190000
DTEND;TZID="America/Chicago":20140905T220000
DTSTAMP:20260424T232329
CREATED:20140811T062043Z
LAST-MODIFIED:20140811T062754Z
UID:51-1409943600-1409954400@qcsportsnet.com
SUMMARY:Quad City High School Football - Week 2
DESCRIPTION:Week 2 of Quad City high school football features the debut of the renovated TouVelle Stadium at Bettendorf High School as the Bulldogs take on Iowa City High. All game broadcasts start at 7 PM with the pregame show followed by kickoff at approximately 7:30 PM. \nClick on the link for your game to go to your game site. The Iowa City High-Bettendorf game is also available on ESPN 1170 AM\, and the Richwoods-Rock Island game can be heard on ESPN 93.5 FM \nGames this week: \n\nIowa City High at Bettendorf – ESPN Radio 1170 AM\nPeoria Richwoods at Rock Island – ESPN Radio 93.5 FM\nPleasant Valley at LinnMar – QCSN1\nGalesburg at Rock Island Alleman – QCSN2\nMuscatine at North Scott – QCSN3\n\n
URL:https://qcsportsnet.com/calendar/qcfootball-week2/
CATEGORIES:Football,MAC,Western Big 6
ATTACH;FMTTYPE=image/jpeg:https://qcsportsnet.com/wp-content/uploads/2014/08/QC_blue_300dpi.jpg
END:VEVENT
END:VCALENDAR