BEGIN:VCALENDAR
VERSION:2.0
PRODID:-//QCSportsNet - The Quad Cities Live Local Sports Leader - ECPv4.9.8//NONSGML v1.0//EN
CALSCALE:GREGORIAN
METHOD:PUBLISH
X-WR-CALNAME:QCSportsNet - The Quad Cities Live Local Sports Leader
X-ORIGINAL-URL:https://qcsportsnet.com
X-WR-CALDESC:Events for QCSportsNet - The Quad Cities Live Local Sports Leader
BEGIN:VTIMEZONE
TZID:America/New_York
BEGIN:DAYLIGHT
TZOFFSETFROM:-0500
TZOFFSETTO:-0400
TZNAME:EDT
DTSTART:20170312T070000
END:DAYLIGHT
BEGIN:STANDARD
TZOFFSETFROM:-0400
TZOFFSETTO:-0500
TZNAME:EST
DTSTART:20171105T060000
END:STANDARD
END:VTIMEZONE
BEGIN:VEVENT
DTSTART;VALUE=DATE:20171215
DTEND;VALUE=DATE:20171216
DTSTAMP:20260425T023540
CREATED:20171213T131757Z
LAST-MODIFIED:20171215T224812Z
UID:1144-1513296000-1513382399@qcsportsnet.com
SUMMARY:QCSportsNet Broadcast Schedule - Friday\, December 15th
DESCRIPTION: \nClick here to listen live to Moline Maroons broadcasts\n\nFriday\, December 15 – Moline boys at United Township\, pregame 7:10 PM/tipoff 7:30 PM\n\n  \n \nClick here to listen live to Pleasant Valley Spartans broadcasts\n\nFriday\, December 15 – Pleasant Valley boys vs Davenport West\, pregame 7:10 PM/tipoff 7:30 PM\n\n \nClick here to listen live to Rock Island Rocks broadcasts\n\nFriday\, December 15th – Rock Island boys vs Quincy\, pregame 7:10 PM/tipoff 7:30 PM\n\n \nClick here to listen live to United Township Panthers broadcasts\n\nFriday\, December 15 – United Township boys vs Moline\, pregame 7:10 PM/tipoff 7:30 PM\n\n  \n \n\n
URL:https://qcsportsnet.com/calendar/qcsportsnet-broadcast-schedule-friday-december-15th/
CATEGORIES:Boys basketball,MAC,Western Big 6
ATTACH;FMTTYPE=image/jpeg:https://qcsportsnet.com/wp-content/uploads/2014/08/QC_blue_300dpi.jpg
END:VEVENT
END:VCALENDAR