BEGIN:VCALENDAR
VERSION:2.0
PRODID:-//QCSportsNet - The Quad Cities Live Local Sports Leader - ECPv4.9.8//NONSGML v1.0//EN
CALSCALE:GREGORIAN
METHOD:PUBLISH
X-WR-CALNAME:QCSportsNet - The Quad Cities Live Local Sports Leader
X-ORIGINAL-URL:https://qcsportsnet.com
X-WR-CALDESC:Events for QCSportsNet - The Quad Cities Live Local Sports Leader
BEGIN:VTIMEZONE
TZID:America/New_York
BEGIN:DAYLIGHT
TZOFFSETFROM:-0500
TZOFFSETTO:-0400
TZNAME:EDT
DTSTART:20170312T070000
END:DAYLIGHT
BEGIN:STANDARD
TZOFFSETFROM:-0400
TZOFFSETTO:-0500
TZNAME:EST
DTSTART:20171105T060000
END:STANDARD
END:VTIMEZONE
BEGIN:VEVENT
DTSTART;VALUE=DATE:20171209
DTEND;VALUE=DATE:20171210
DTSTAMP:20260425T041406
CREATED:20171205T132949Z
LAST-MODIFIED:20171206T134236Z
UID:1120-1512777600-1512863999@qcsportsnet.com
SUMMARY:QCSportsNet broadcast schedule - Saturday\, December 9th
DESCRIPTION: \nClick here to listen live to Moline Maroons broadcasts\n\nSaturday\, December 9 – Moline boys at Normal West\, pregame 6:10 PM/tipoff 6:30 PM\n\n  \n \nClick here to listen live to United Township Panthers broadcasts\n\nSaturday\, December 9 – United Township boys vs Peoria High\, pregame 6:10 PM/tipoff 6:30 PM\n\n  \n
URL:https://qcsportsnet.com/calendar/qcsportsnet-broadcast-schedule-saturday-december-9th/
CATEGORIES:Boys basketball,Western Big 6
ATTACH;FMTTYPE=image/jpeg:https://qcsportsnet.com/wp-content/uploads/2014/08/QC_blue_300dpi.jpg
END:VEVENT
END:VCALENDAR