BEGIN:VCALENDAR
VERSION:2.0
PRODID:-//QCSportsNet - The Quad Cities Live Local Sports Leader - ECPv4.9.8//NONSGML v1.0//EN
CALSCALE:GREGORIAN
METHOD:PUBLISH
X-WR-CALNAME:QCSportsNet - The Quad Cities Live Local Sports Leader
X-ORIGINAL-URL:https://qcsportsnet.com
X-WR-CALDESC:Events for QCSportsNet - The Quad Cities Live Local Sports Leader
BEGIN:VTIMEZONE
TZID:America/Chicago
BEGIN:DAYLIGHT
TZOFFSETFROM:-0600
TZOFFSETTO:-0500
TZNAME:CDT
DTSTART:20140309T080000
END:DAYLIGHT
BEGIN:STANDARD
TZOFFSETFROM:-0500
TZOFFSETTO:-0600
TZNAME:CST
DTSTART:20141102T070000
END:STANDARD
END:VTIMEZONE
BEGIN:VEVENT
DTSTART;TZID="America/Chicago":20141205T072500
DTEND;TZID="America/Chicago":20141205T214500
DTSTAMP:20260425T023713
CREATED:20141203T121936Z
LAST-MODIFIED:20141203T121936Z
UID:386-1417764300-1417815900@qcsportsnet.com
SUMMARY:Quad City high school basketball - Friday\, December 5th
DESCRIPTION: \n  \nESPN Radio and QCSportsNet will air four area high school basketball games\, featuring Rock Island\, Moline\, and United Township opening the Western Big 6 boys basketball season and Bettendorf opening its 2014-2015 basketball season. Your game listing is below. \nRock Island at Quincy – Pregame at 7:25 PM live on ESPN 93.5 FM\, www.espn935.com\, and http://qcsn.co/espn935 (Ken Jacoby)\nCedar Rapids Washington at Bettendorf – Pregame at 7:25 PM live on KBOB 1170 and http://qcsn.co/kbob1170 (Mitch Widmeier)\nMoline at United Township – Pregame at 7:25 PM live on http://qcsn.co/qcsnet2 (Joe Winkel\, Tanner Rowe)\nDavenport Assumption at Pleasant Valley (MAC girls basketball) – Pregame at 7:25 PM live on http://qcsn.co/qcsnet1 (Marco LaNave)\n  \n  \n
URL:https://qcsportsnet.com/calendar/quad-city-high-school-basketball-friday-december-5th/
CATEGORIES:Boys basketball,Girls Basketball,MAC,Western Big 6
END:VEVENT
END:VCALENDAR