BEGIN:VCALENDAR
VERSION:2.0
PRODID:-//QCSportsNet - The Quad Cities Live Local Sports Leader - ECPv4.9.8//NONSGML v1.0//EN
CALSCALE:GREGORIAN
METHOD:PUBLISH
X-WR-CALNAME:QCSportsNet - The Quad Cities Live Local Sports Leader
X-ORIGINAL-URL:https://qcsportsnet.com
X-WR-CALDESC:Events for QCSportsNet - The Quad Cities Live Local Sports Leader
BEGIN:VTIMEZONE
TZID:America/Chicago
BEGIN:DAYLIGHT
TZOFFSETFROM:-0600
TZOFFSETTO:-0500
TZNAME:CDT
DTSTART:20150308T080000
END:DAYLIGHT
BEGIN:STANDARD
TZOFFSETFROM:-0500
TZOFFSETTO:-0600
TZNAME:CST
DTSTART:20151101T070000
END:STANDARD
END:VTIMEZONE
BEGIN:VEVENT
DTSTART;TZID="America/Chicago":20150213T080000
DTEND;TZID="America/Chicago":20150213T170000
DTSTAMP:20260425T023821
CREATED:20150213T023048Z
LAST-MODIFIED:20150213T023048Z
UID:483-1423814400-1423846800@qcsportsnet.com
SUMMARY:Quad City High School Basketball - Friday\, February 13th
DESCRIPTION:\nGame schedule for Friday\, February 13th\n\nNorth Scott at Muscatine (girls) – 5:45 PM online at qcsn.co/kbob1170 (Dallon Christensen)\nRock Island Alleman at Moline – 7:20 PM\, ESPN 93.5 FM\, www.espn935.com\, and qcsn.co/espn935   (Steve Campbell)\nNorth Scott at Muscatine (boys) – 7:30 PM KBOB 1170 AM and qcsn.co/kbob1170 (Dallon Christensen)\nPleasant Valley at Davenport Central – 7:20 PM on QCSportsNet (qcsn.co/qcsnet1) (Mitch Widmeier)\n\n
URL:https://qcsportsnet.com/calendar/quad-city-high-school-basketball-friday-february-13th/
CATEGORIES:Boys basketball,Girls Basketball,MAC,Western Big 6
END:VEVENT
END:VCALENDAR