BEGIN:VCALENDAR
VERSION:2.0
PRODID:-//QCSportsNet - The Quad Cities Live Local Sports Leader - ECPv4.9.8//NONSGML v1.0//EN
CALSCALE:GREGORIAN
METHOD:PUBLISH
X-WR-CALNAME:QCSportsNet - The Quad Cities Live Local Sports Leader
X-ORIGINAL-URL:https://qcsportsnet.com
X-WR-CALDESC:Events for QCSportsNet - The Quad Cities Live Local Sports Leader
BEGIN:VTIMEZONE
TZID:America/Chicago
BEGIN:DAYLIGHT
TZOFFSETFROM:-0600
TZOFFSETTO:-0500
TZNAME:CDT
DTSTART:20150308T080000
END:DAYLIGHT
BEGIN:STANDARD
TZOFFSETFROM:-0500
TZOFFSETTO:-0600
TZNAME:CST
DTSTART:20151101T070000
END:STANDARD
END:VTIMEZONE
BEGIN:VEVENT
DTSTART;TZID="America/Chicago":20150220T071500
DTEND;TZID="America/Chicago":20150220T213000
DTSTAMP:20260425T023824
CREATED:20150219T115923Z
LAST-MODIFIED:20150219T120548Z
UID:501-1424416500-1424467800@qcsportsnet.com
SUMMARY:Quad City High School basketball - Friday\, February 20th
DESCRIPTION:  \nThe Iowa regular season closes with North Scott and Pleasant Valley tied atop the Mississippi Athletic Conference. Quad City high school basketball features three games across the ESPN Radio and QCSportsNet family of networks on Friday\, February 20th. \nGame schedule for Friday\, February 20th – All games start at approximately 7:15 with tip set for approximately 7:30 PM\n\nRock Island Alleman at United Township – ESPN 93.5\, www.espn935.com\, and qcsn.co/espn935 (Joe Winkel\, Tanner Rowe)\nPleasant Valley at Davenport Assumption – KBOB 1170 AM and qcsn.co/kbob1170 (Mitch Widmeier\, TBA)\nBurlington at North Scott – QCSportsnet (qcsn.co/qcsnet1) – Marco LaNave\n\n
URL:https://qcsportsnet.com/calendar/quad-city-high-school-basketball-friday-february-20th/
CATEGORIES:Boys basketball,MAC,Western Big 6
END:VEVENT
END:VCALENDAR