BEGIN:VCALENDAR
VERSION:2.0
PRODID:-//QCSportsNet - The Quad Cities Live Local Sports Leader - ECPv4.9.8//NONSGML v1.0//EN
CALSCALE:GREGORIAN
METHOD:PUBLISH
X-WR-CALNAME:QCSportsNet - The Quad Cities Live Local Sports Leader
X-ORIGINAL-URL:https://qcsportsnet.com
X-WR-CALDESC:Events for QCSportsNet - The Quad Cities Live Local Sports Leader
BEGIN:VTIMEZONE
TZID:America/Chicago
BEGIN:DAYLIGHT
TZOFFSETFROM:-0600
TZOFFSETTO:-0500
TZNAME:CDT
DTSTART:20150308T080000
END:DAYLIGHT
BEGIN:STANDARD
TZOFFSETFROM:-0500
TZOFFSETTO:-0600
TZNAME:CST
DTSTART:20151101T070000
END:STANDARD
END:VTIMEZONE
BEGIN:VEVENT
DTSTART;TZID="America/Chicago":20150206T080000
DTEND;TZID="America/Chicago":20150206T170000
DTSTAMP:20260425T023828
CREATED:20150206T115254Z
LAST-MODIFIED:20150206T183918Z
UID:470-1423209600-1423242000@qcsportsnet.com
SUMMARY:Quad City High School basketball - Friday\, February 6th
DESCRIPTION:\nGame schedule for Friday\, February 6th – All pregame coverage starts at 7:20 PM with tip-off set for 7:35 PM\n\nRock Island at Rock Island Alleman – ESPN 93.5 FM\, www.espn935.com\, and qcsn.co/espn935   (Ken Jacoby)\nNorth Scott at Davenport Central – KBOB 1170 AM and qcsn.co/kbob1170 (Mitch Widmeier)\nUnited Township at Quincy – 7:20 PM on QCSportsNet2 (qcsn.co/qcsnet2)(Joe Winkel\, Tanner Rowe)\n\n
URL:https://qcsportsnet.com/calendar/quad-city-high-school-basketball-friday-february-6th/
CATEGORIES:Boys basketball,MAC,Western Big 6
END:VEVENT
END:VCALENDAR