BEGIN:VCALENDAR
VERSION:2.0
PRODID:-//QCSportsNet - The Quad Cities Live Local Sports Leader - ECPv4.9.8//NONSGML v1.0//EN
CALSCALE:GREGORIAN
METHOD:PUBLISH
X-WR-CALNAME:QCSportsNet - The Quad Cities Live Local Sports Leader
X-ORIGINAL-URL:https://qcsportsnet.com
X-WR-CALDESC:Events for QCSportsNet - The Quad Cities Live Local Sports Leader
BEGIN:VTIMEZONE
TZID:America/Chicago
BEGIN:DAYLIGHT
TZOFFSETFROM:-0600
TZOFFSETTO:-0500
TZNAME:CDT
DTSTART:20150308T080000
END:DAYLIGHT
BEGIN:STANDARD
TZOFFSETFROM:-0500
TZOFFSETTO:-0600
TZNAME:CST
DTSTART:20151101T070000
END:STANDARD
END:VTIMEZONE
BEGIN:VEVENT
DTSTART;TZID="America/Chicago":20150103T120000
DTEND;TZID="America/Chicago":20150103T220000
DTSTAMP:20260425T023806
CREATED:20150102T231813Z
LAST-MODIFIED:20150102T232042Z
UID:416-1420286400-1420322400@qcsportsnet.com
SUMMARY:Quad City High School Basketball - January 3\, 2015
DESCRIPTION:Quad City high school basketball rings in the new year on Saturday\, January 3rd with four games. Your game links are below. \n\nCedar Rapids Xavier at Davenport Assumption (girls) – 12:15 PM Internet only on qcsn.co/espn935 (Zach Mackey)\n\nGames on ESPN 93.5 FM\, www.espn935.com\, and qcsn.co/espn935\n\nCedar Rapids Xavier at Davenport Assumption (boys) – 3:15 PM (Zach Mackey)\nRock Island Alleman at Davenport West (boys) – 6:15 PM (Steve Campbell)\nUnited Township at Rock Falls (boys) – 8:30 PM (immediately following Alleman-Davenport West) – Joe Winkel and Tanner Rowe\n\n
URL:https://qcsportsnet.com/calendar/quad-city-high-school-basketball-january-3-2015/
CATEGORIES:Boys basketball,Girls Basketball,MAC,Western Big 6
END:VEVENT
END:VCALENDAR